BEGIN:VCALENDAR
PRODID:NingEventWidget-v1
VERSION:2.0
METHOD:PUBLISH
BEGIN:VTIMEZONE
TZID:Pacific/Midway
X-LIC-LOCATION:Pacific/Midway
BEGIN:STANDARD
TZOFFSETFROM:-1100
TZOFFSETTO:-1100
TZNAME:SST
DTSTART:19700101T000000
END:STANDARD
END:VTIMEZONE
BEGIN:VEVENT
UID:5385115:Event:136020
DTSTAMP:20260425T070939Z
SUMMARY:Your Route to Open Access: 5 Steps to Success
DESCRIPTION:In celebration of Open Access Week 2015, join us for a web
 inar on 'Your Route to Open Access: 5 steps to success'. Learn more ab
 out how to successfully publish open access, from finding the best jou
 rnal for your work, to complying with mandates and promoting your publ
 ished paper.\nPresenters: Alice Meadows, ORCiD; Charlie Rapple, Kudos;
  Natasha White, Wiley; Liz Ferguson, Wiley\nRegister here: http://bit.
 ly/1QdLgWS\nDate: 14 October\nScheduled time: 9:30-10:30AM EDT / 14:30
 -15:30 BST\n\nFor more information visit http://legacy.openaccessweek.
 org/events/your-route-to-open-access-5-steps-to-success
DTSTART;TZID=Pacific/Midway:20151014T093000
DTEND;TZID=Pacific/Midway:20151014T103000
CATEGORIES:webinar
LOCATION:Global Event at 9:30-10:30AM EDT / 14:30-15:30 BST
WEBSITE:http://exchanges.wiley.com/authors/videos-and-webinars_654.htm
 l?commid=173897
URL:http://exchanges.wiley.com/authors/videos-and-webinars_654.html?co
 mmid=173897
CONTACT:
ORGANIZER:Wiley
ATTACH;FMTTYPE="image/jpeg":http://storage.ning.com/topology/rest/1.0/
 file/get/3057566534?profile=original
ATTENDEE;ROLE=REQ-PARTICIPANT;PARTSTAT=ACCEPTED;RSVP=TRUE;CN="Christin
 e Thomsen":http://legacy.openaccessweek.org/profile/ChristineThomsen
END:VEVENT
END:VCALENDAR
