BEGIN:VCALENDAR
PRODID:NingEventWidget-v1
VERSION:2.0
METHOD:PUBLISH
BEGIN:VTIMEZONE
TZID:Pacific/Midway
X-LIC-LOCATION:Pacific/Midway
BEGIN:STANDARD
TZOFFSETFROM:-1100
TZOFFSETTO:-1100
TZNAME:SST
DTSTART:19700101T000000
END:STANDARD
END:VTIMEZONE
BEGIN:VEVENT
UID:5385115:Event:43287
DTSTAMP:20260419T162020Z
SUMMARY:Your Dissertation: What Your Need To Know About Copyright and 
 Electronic Filing
DESCRIPTION:Students at the Columbia Graduate School of Arts and Scien
 ces (GSAS) must file their dissertations electronically, and a copy of
  each dissertation will be deposited in Columbia's online open-access 
 repository Academic Commons. This new requirement may change the way y
 ou prepare your dissertation for filing. Come learn important informat
 ion about your copyrights, using copyrighted materials in your dissert
 ation, and depositing your work in Academic Commons. Bring your questi
 ons!\nSpeakers: Columbia Copyright Advisory Office director Kenneth Cr
 ews and Academic Commons manager Robert Hilliker. Introduction by GSAS
  Dean Carlos Alonso.\n\nFor more information visit http://legacy.opena
 ccessweek.org/events/your-dissertation-what-your-need-to-know-about-co
 pyright-and
DTSTART;TZID=Pacific/Midway:20111026T120000
DTEND;TZID=Pacific/Midway:20111026T133000
CATEGORIES:workshop
LOCATION:Columbia University
WEBSITE:http://www.columbia.edu/files/columbia/content/morningsidecamp
 us-2011-02-16.pdf
URL:http://www.columbia.edu/files/columbia/content/morningsidecampus-2
 011-02-16.pdf
CONTACT:212-851-2856
ORGANIZER:Columbia University Scholarly Communication Program
ATTACH;FMTTYPE="image/jpeg":
ATTENDEE;ROLE=REQ-PARTICIPANT;PARTSTAT=ACCEPTED;RSVP=TRUE;CN="Kathryn 
 Pope":http://legacy.openaccessweek.org/profile/KathrynPope
END:VEVENT
END:VCALENDAR
