BEGIN:VCALENDAR
PRODID:NingEventWidget-v1
VERSION:2.0
METHOD:PUBLISH
BEGIN:VTIMEZONE
TZID:Pacific/Midway
X-LIC-LOCATION:Pacific/Midway
BEGIN:STANDARD
TZOFFSETFROM:-1100
TZOFFSETTO:-1100
TZNAME:SST
DTSTART:19700101T000000
END:STANDARD
END:VTIMEZONE
BEGIN:VEVENT
UID:5385115:Event:71012
DTSTAMP:20260424T052033Z
SUMMARY:Your Dissertation: What You Need to Know About Copyright and E
 lectronic Filing
DESCRIPTION:Students at Columbia's Graduate School of Arts and Science
 sÂ (GSAS)Â must file their dissertations electronically,Â and a copy o
 f each dissertation will be deposited in Columbia's online repositoryÂ
  Academic Commons. This new requirement may change the way you prepare
  your dissertation for filing. Learn important information about your 
 copyrights, using copyrighted materials in your dissertation, and depo
 siting your work in Academic Commons.\nBring your questions!\nSpeakers
 :\nKenneth Crews,Â ColumbiaÂ Copyright Advisory Office\nRob Hilliker, 
 Academic CommonsÂ Manager\nÂ \nThis event is part of Open Access Week 
 2012 at Columbia University.Â It is open to ColumbiaÂ students, facult
 y, and staff.\n\nFor more information visit http://legacy.openaccesswe
 ek.org/events/your-dissertation-what-you-need-to-know-about-copyright-
 and
DTSTART;TZID=Pacific/Midway:20121022T130000
DTEND;TZID=Pacific/Midway:20121022T140000
CATEGORIES:columbia, university, open, access, week, event
LOCATION:Butler Library Room 523, Columbia University
WEBSITE:http://scholcomm.columbia.edu/2012/10/03/your-dissertation-wha
 t-you-need-to-know-about-copyright-and-electronic-filing-2012/
URL:http://scholcomm.columbia.edu/2012/10/03/your-dissertation-what-yo
 u-need-to-know-about-copyright-and-electronic-filing-2012/
CONTACT:
ORGANIZER:Robert Hilliker (Academic Commons) and Kenneth Crews (Copyri
 ght Advisory Office), Columbia University
ATTACH;FMTTYPE="image/jpeg":http://storage.ning.com/topology/rest/1.0/
 file/get/3057496421?profile=original
ATTENDEE;ROLE=REQ-PARTICIPANT;PARTSTAT=ACCEPTED;RSVP=TRUE;CN="Leyla Wi
 lliams":http://legacy.openaccessweek.org/profile/LeylaWilliams
END:VEVENT
END:VCALENDAR
