BEGIN:VCALENDAR
PRODID:NingEventWidget-v1
VERSION:2.0
METHOD:PUBLISH
BEGIN:VTIMEZONE
TZID:Pacific/Midway
X-LIC-LOCATION:Pacific/Midway
BEGIN:STANDARD
TZOFFSETFROM:-1100
TZOFFSETTO:-1100
TZNAME:SST
DTSTART:19700101T000000
END:STANDARD
END:VTIMEZONE
BEGIN:VEVENT
UID:5385115:Event:47722
DTSTAMP:20260423T150757Z
SUMMARY:You Know What You Write, But Do You Know Your Rights?
DESCRIPTION:When you publish a journal article, you sign a copyright a
 greement. Do you know what you're agreeing to when you sign it? Differ
 ent journals have different policies: \n\nSome journals require you t
 o relinquish your copyright. (After you sign this kind of agreement, y
 ou have to ask permission or even pay to share your article with stude
 nts and colleagues!)\nSome journals allow you to retain some rights (e
 .g., the right to post the article online). \nSome journals leave cop
 yright in your hands. (You simply give the journal a non-exclusive lic
 ense to publish the article.)\n\nHow can you find out a journal's poli
 cy? How can you negotiate your contract to make the most of your right
 s as a scholar, researcher, and author? Come learn over lunch how to p
 reserve your rights to reproduce, distribute, and display the work you
  create.\n \nLight lunch will be providedSpace is limited, so RSVP is
  requiredRSVP to Professor Jill Cirasella, cirasella@brooklyn.cuny.edu
 (Brooklyn College faculty have priority at this event, but other CUNY 
 faculty are welcome to attend if there is space.  Email cirasella@bro
 oklyn.cuny.edu to inquire.) \n \nThis workshop is being offered as a
  part of Open Access Week (October 24-30, 2011). For more information 
 about the problems with traditional journal publishing and the promise
  of open access publishing, and to learn about Open Access Week events
  across CUNY, visit http://openaccess.commons.gc.cuny.edu/\n\nFor more
  information visit http://legacy.openaccessweek.org/events/you-know-wh
 at-you-write-but-do-you-know-your-rights
DTSTART;TZID=Pacific/Midway:20111027T123000
DTEND;TZID=Pacific/Midway:20111027T140000
CATEGORIES:workshop, faculty
LOCATION:Brooklyn College Library, Room 412C
WEBSITE:http://openaccess.commons.gc.cuny.edu/2011/09/23/oa-week-autho
 rs-rights-event-brooklyn-college-102711/
URL:http://openaccess.commons.gc.cuny.edu/2011/09/23/oa-week-authors-r
 ights-event-brooklyn-college-102711/
CONTACT:
ORGANIZER;CN="Jill Cirasella":http://legacy.openaccessweek.org/profile
 /JillCirasella
ATTACH;FMTTYPE="image/jpeg":http://storage.ning.com/topology/rest/1.0/
 file/get/3057476372?profile=original
ATTENDEE;ROLE=REQ-PARTICIPANT;PARTSTAT=ACCEPTED;RSVP=TRUE;CN="Jill Cir
 asella":http://legacy.openaccessweek.org/profile/JillCirasella
END:VEVENT
END:VCALENDAR
