BEGIN:VCALENDAR
PRODID:NingEventWidget-v1
VERSION:2.0
METHOD:PUBLISH
BEGIN:VTIMEZONE
TZID:Pacific/Midway
X-LIC-LOCATION:Pacific/Midway
BEGIN:STANDARD
TZOFFSETFROM:-1100
TZOFFSETTO:-1100
TZNAME:SST
DTSTART:19700101T000000
END:STANDARD
END:VTIMEZONE
BEGIN:VEVENT
UID:5385115:Event:104273
DTSTAMP:20260422T110926Z
SUMMARY:Workshop „Publishing journals in Open Access”
DESCRIPTION:Workshop „Publishing journals in Open Access”. Organiz
 ers: Library Association from Moldova (ABRM), The Republican Scientifi
 c Technical Library The National Institute of Economic Studies. \n\nF
 or more information visit http://legacy.openaccessweek.org/events/work
 shop-publishing-journals-in-open-access
DTSTART;TZID=Pacific/Midway:20131025T100000
DTEND;TZID=Pacific/Midway:20131025T140000
CATEGORIES:workshop
LOCATION:Chişinău, Ion Creanga, 45 St.
WEBSITE:
URL:
CONTACT:
ORGANIZER;CN="Natalia Cheradi":http://legacy.openaccessweek.org/profil
 e/CheradiNatalia
ATTACH;FMTTYPE="image/jpeg":
ATTENDEE;ROLE=REQ-PARTICIPANT;PARTSTAT=ACCEPTED;RSVP=TRUE;CN="Natalia 
 Cheradi":http://legacy.openaccessweek.org/profile/CheradiNatalia
END:VEVENT
END:VCALENDAR
