BEGIN:VCALENDAR
PRODID:NingEventWidget-v1
VERSION:2.0
METHOD:PUBLISH
BEGIN:VTIMEZONE
TZID:Pacific/Midway
X-LIC-LOCATION:Pacific/Midway
BEGIN:STANDARD
TZOFFSETFROM:-1100
TZOFFSETTO:-1100
TZNAME:SST
DTSTART:19700101T000000
END:STANDARD
END:VTIMEZONE
BEGIN:VEVENT
UID:5385115:Event:70639
DTSTAMP:20260421T011917Z
SUMMARY:Workshop on repositories for Inter-University Research Institu
 te Corporations
DESCRIPTION:A workshop for building institutional repositories network
  for Inter-University Research Institute Corporations\n\nFor more info
 rmation visit http://legacy.openaccessweek.org/events/workshop-on-repo
 sitories-for-inter-university-research-institute
DTSTART;TZID=Pacific/Midway:20121025T133000
DTEND;TZID=Pacific/Midway:20121026T130000
CATEGORIES:workshop
LOCATION:National Museum of Ethnology
WEBSITE:http://www.nifs.ac.jp/ri/repository_2012.html
URL:http://www.nifs.ac.jp/ri/repository_2012.html
CONTACT:
ORGANIZER:Research Information Office, National Institute for Fusion S
 cience
ATTACH;FMTTYPE="image/jpeg":http://storage.ning.com/topology/rest/1.0/
 file/get/3057497418?profile=original
ATTENDEE;ROLE=REQ-PARTICIPANT;PARTSTAT=ACCEPTED;RSVP=TRUE;CN="SUGITA S
 higeki":http://legacy.openaccessweek.org/profile/SUGITAShigeki
END:VEVENT
END:VCALENDAR
