BEGIN:VCALENDAR
PRODID:NingEventWidget-v1
VERSION:2.0
METHOD:PUBLISH
BEGIN:VTIMEZONE
TZID:Pacific/Midway
X-LIC-LOCATION:Pacific/Midway
BEGIN:STANDARD
TZOFFSETFROM:-1100
TZOFFSETTO:-1100
TZNAME:SST
DTSTART:19700101T000000
END:STANDARD
END:VTIMEZONE
BEGIN:VEVENT
UID:5385115:Event:106893
DTSTAMP:20260422T215322Z
SUMMARY:Workshop on Open Access
DESCRIPTION:Main Library, University of Kelaniya, Sri Lanka in collab
 oration with the Staff Development Unit of the University conducted a 
 one day workshop on Open Access for University Academics. 50 Academics
  including academic  librarians participated the event. The aim of th
 e workshop was to promote and raise the awareness on OA Publishing and
  OA Literature among university academicians.\n\nThis workshop was org
 anized with the financial support of INASP through their Open Access W
 eek Competition 2013 grant. The Full report of the workshop is accessi
 ble through INASP Website: http://www.inasp.info/en/training-resources
 /grants-and-competitions/open-access-week-competition/open-access-week
 -competition-winners-2013/\n\n\n\nFor more information visit http://le
 gacy.openaccessweek.org/events/workshop-on-open-access
DTSTART;TZID=Pacific/Midway:20131219T000000
DTEND;TZID=Pacific/Midway:20131219T235900
CATEGORIES:workshop
LOCATION:Faculty of Social Sciences, University of Kelaniya, Sri Lanka
 .
WEBSITE:
URL:
CONTACT:
ORGANIZER:Main Library, University of Kelaniya
ATTACH;FMTTYPE="image/jpeg":http://storage.ning.com/topology/rest/1.0/
 file/get/3057531036?profile=original
ATTENDEE;ROLE=REQ-PARTICIPANT;PARTSTAT=ACCEPTED;RSVP=TRUE;CN="W.M.Thar
 anga Dilruk Ranasinghe":http://legacy.openaccessweek.org/profile/WMTha
 rangaDilrukRanasinghe
END:VEVENT
END:VCALENDAR
