BEGIN:VCALENDAR
PRODID:NingEventWidget-v1
VERSION:2.0
METHOD:PUBLISH
BEGIN:VTIMEZONE
TZID:Pacific/Midway
X-LIC-LOCATION:Pacific/Midway
BEGIN:STANDARD
TZOFFSETFROM:-1100
TZOFFSETTO:-1100
TZNAME:SST
DTSTART:19700101T000000
END:STANDARD
END:VTIMEZONE
BEGIN:VEVENT
UID:5385115:Event:74533
DTSTAMP:20260419T010646Z
SUMMARY:Workshop: Making Your Work Open Access - for Graduate Students
  (IU Bloomington)
DESCRIPTION:Interested in making your research, working papers, and ar
 ticles Open Access? This workshop will provide you the necessary infor
 mation you need to get started. You’ll learn how to make the most of
  Open Access publishing, best practices, as well as tips on how to nav
 igate the emerging field of Open Access.\n\nFor more information visit
  http://legacy.openaccessweek.org/events/workshop-making-your-work-ope
 n-access-for-graduate-students
DTSTART;TZID=Pacific/Midway:20121022T153000
DTEND;TZID=Pacific/Midway:20121022T170000
CATEGORIES:workshop
LOCATION:Wells Library
WEBSITE:http://www.libraries.iub.edu/index.php?pageId=530000107
URL:http://www.libraries.iub.edu/index.php?pageId=530000107
CONTACT:8128565295
ORGANIZER;CN="Stacy Konkiel":http://legacy.openaccessweek.org/profile/
 StacyKonkiel
ATTACH;FMTTYPE="image/jpeg":
ATTENDEE;ROLE=REQ-PARTICIPANT;PARTSTAT=ACCEPTED;RSVP=TRUE;CN="Stacy Ko
 nkiel":http://legacy.openaccessweek.org/profile/StacyKonkiel
END:VEVENT
END:VCALENDAR
