BEGIN:VCALENDAR
PRODID:NingEventWidget-v1
VERSION:2.0
METHOD:PUBLISH
BEGIN:VTIMEZONE
TZID:Pacific/Midway
X-LIC-LOCATION:Pacific/Midway
BEGIN:STANDARD
TZOFFSETFROM:-1100
TZOFFSETTO:-1100
TZNAME:SST
DTSTART:19700101T000000
END:STANDARD
END:VTIMEZONE
BEGIN:VEVENT
UID:5385115:Event:136673
DTSTAMP:20260423T050348Z
SUMMARY:Workshop: Data management plans for EU, DFG and BMBF
DESCRIPTION:The University Library and Computer and Media Service of H
 umboldt-Universität zu Berlin offer an application-oriented workshop 
 with the topic “Data management plans for EU, DFG and BMBF” in win
 ter semester 2015/16.\nThe following topics will be addressed:\n\nWhat
  are data management plans?\nWhy do I need a data management plan?\nHo
 w does a good data management plan look like? Which aspects need to be
  kept in mind?\nPractical work with the tool DMPonline (https://dmponl
 ine.dcc.ac.uk/)\nDiscussion, Q&A session\n\nResearch funders like DFG,
  BMBF or EU increasingly expect a statement on the handling of researc
 h data. The workshop teaches skills for the independent creation of a 
 data management plan. Previous knowledge is not required.\nRegistratio
 n till October 16th via e-mail to kerstin.helbig(at)cms.hu-berlin.de\n
 \nFor more information visit http://legacy.openaccessweek.org/events/w
 orkshop-data-management-plans-for-eu-dfg-and-bmbf
DTSTART;TZID=Pacific/Midway:20151022T163000
DTEND;TZID=Pacific/Midway:20151022T180000
CATEGORIES:workshop
LOCATION:Germany
WEBSITE:https://www.cms.hu-berlin.de/en/ueberblick-en/projekte-en/data
 man-en/workshop-data-management-plans-for-eu-dfg-and-bmbf-1?set_langua
 ge=en
URL:https://www.cms.hu-berlin.de/en/ueberblick-en/projekte-en/dataman-
 en/workshop-data-management-plans-for-eu-dfg-and-bmbf-1?set_language=e
 n
CONTACT:
ORGANIZER;CN="Kerstin Helbig":http://legacy.openaccessweek.org/profile
 /KerstinHelbig
ATTACH;FMTTYPE="image/jpeg":
ATTENDEE;ROLE=REQ-PARTICIPANT;PARTSTAT=ACCEPTED;RSVP=TRUE;CN="Kerstin 
 Helbig":http://legacy.openaccessweek.org/profile/KerstinHelbig
END:VEVENT
END:VCALENDAR
