BEGIN:VCALENDAR
PRODID:NingEventWidget-v1
VERSION:2.0
METHOD:PUBLISH
BEGIN:VTIMEZONE
TZID:Pacific/Midway
X-LIC-LOCATION:Pacific/Midway
BEGIN:STANDARD
TZOFFSETFROM:-1100
TZOFFSETTO:-1100
TZNAME:SST
DTSTART:19700101T000000
END:STANDARD
END:VTIMEZONE
BEGIN:VEVENT
UID:5385115:Event:78613
DTSTAMP:20260421T043739Z
SUMMARY:Wikipedia Technical Meeting Autumn 2012
DESCRIPTION:The Wikipedia Technical Meeting (Viquitrobada tècnica) a
 ims to be a meeting of all those interested in issues surrounding the 
 Wikipedia and its related projects. The goal is to disseminate practic
 es and experiences among a wider audience, meet new features to be inc
 orporated early in the Wikipedia.   Place: Universitat Oberta de Cat
 alunya (tbc)\nMore information at: http://ca.wikipedia.org/wiki/Viqui
 projecte:Viquitrobada_t%C3%A8cnica_tardor_2012\n\nFor more information
  visit http://legacy.openaccessweek.org/events/wikipedia-technical-mee
 ting-autumn-2012
DTSTART;TZID=Pacific/Midway:20121027T093000
DTEND;TZID=Pacific/Midway:20121027T173000
CATEGORIES:meeting
LOCATION:Barcelona
WEBSITE:http://ca.wikipedia.org/wiki/Viquiprojecte:Viquitrobada_t%C3%A
 8cnica_tardor_2012
URL:http://ca.wikipedia.org/wiki/Viquiprojecte:Viquitrobada_t%C3%A8cni
 ca_tardor_2012
CONTACT:
ORGANIZER:Amical Viquipèdia, with the support of the Universitat Ober
 ta de Catalunya, UOC
ATTACH;FMTTYPE="image/jpeg":http://storage.ning.com/topology/rest/1.0/
 file/get/3057505287?profile=original
ATTENDEE;ROLE=REQ-PARTICIPANT;PARTSTAT=ACCEPTED;RSVP=TRUE;CN="Cristina
  Vaquer":http://legacy.openaccessweek.org/profile/CristinaVaquer
END:VEVENT
END:VCALENDAR
