BEGIN:VCALENDAR
PRODID:NingEventWidget-v1
VERSION:2.0
METHOD:PUBLISH
BEGIN:VTIMEZONE
TZID:Pacific/Midway
X-LIC-LOCATION:Pacific/Midway
BEGIN:STANDARD
TZOFFSETFROM:-1100
TZOFFSETTO:-1100
TZNAME:SST
DTSTART:19700101T000000
END:STANDARD
END:VTIMEZONE
BEGIN:VEVENT
UID:5385115:Event:175883
DTSTAMP:20260422T125428Z
SUMMARY:Wikipedia Edit-aThon
DESCRIPTION:Why is Wikipedia relevant? Who edits Wikipedia? How can la
 ck of diversity in editors lead to bias? How can you contribute your 
 own writing and expertise to the project? In celebration of Open Acce
 ss week, the Dartmouth Library is offering 1 hour sessions in which yo
 u will learn...  \n\nHow to create your own edits and have your work
  globally published\nWhat are the best practices for writing and citin
 g contributions\nWhy Wikipedia is relevant today, what value it can pr
 ovide\nHow underrepresentation of marginalized identities can result i
 n bias in information\n\n\nFor more information visit http://legacy.op
 enaccessweek.org/events/wikipedia-edit-athon-1
DTSTART;TZID=Pacific/Midway:20181022T143000
DTEND;TZID=Pacific/Midway:20181022T153000
CATEGORIES:workshop
LOCATION:United States of America
WEBSITE:https://www.dartmouth.edu/~library/schcomm/oaweek_2018.html
URL:https://www.dartmouth.edu/~library/schcomm/oaweek_2018.html
CONTACT:6036462132
ORGANIZER:Jen Green, Laura Braunstein, and Madeline Miller
ATTACH;FMTTYPE="image/jpeg":http://storage.ning.com/topology/rest/1.0/
 file/get/3057618203?profile=original
ATTENDEE;ROLE=REQ-PARTICIPANT;PARTSTAT=ACCEPTED;RSVP=TRUE;CN="Jen Gree
 n":http://legacy.openaccessweek.org/profile/JenGreen
END:VEVENT
END:VCALENDAR
