BEGIN:VCALENDAR
PRODID:NingEventWidget-v1
VERSION:2.0
METHOD:PUBLISH
BEGIN:VTIMEZONE
TZID:Pacific/Midway
X-LIC-LOCATION:Pacific/Midway
BEGIN:STANDARD
TZOFFSETFROM:-1100
TZOFFSETTO:-1100
TZNAME:SST
DTSTART:19700101T000000
END:STANDARD
END:VTIMEZONE
BEGIN:VEVENT
UID:5385115:Event:135384
DTSTAMP:20260424T022955Z
SUMMARY:Wikipedia Edit-a-thon
DESCRIPTION:Join us for a Wikipedia edit-a-thon and help contribute to
  Wikipedia’s articles on Open Access. You’ll get to choose which a
 rticles to edit and you’ll be able to say that YOU have contributed 
 to the vast store of knowledge that is Wikipedia!\nWho? You!\nWhat? A 
 Wikipedia edit-a-thon\nWhy? To improve Wikipedia’s Open Access artic
 les and in celebration of Open Access Week\nWhere? Gemmill Library of 
 Mathematics, Engineering and Physics Rm 150\nWhen? October 20th from 3
 -6PM\n\nFor more information visit http://legacy.openaccessweek.org/ev
 ents/wikipedia-edit-a-thon
DTSTART;TZID=Pacific/Midway:20151020T150000
DTEND;TZID=Pacific/Midway:20151020T180000
CATEGORIES:activity
LOCATION:United States of America
WEBSITE:http://scholar.colorado.edu/oaweek/2015/Events/3/
URL:http://scholar.colorado.edu/oaweek/2015/Events/3/
CONTACT:
ORGANIZER:Gemmill Library of Mathematics, Engineering and Physics
ATTACH;FMTTYPE="image/jpeg":
ATTENDEE;ROLE=REQ-PARTICIPANT;PARTSTAT=ACCEPTED;RSVP=TRUE;CN="Jennifer
  Chan":http://legacy.openaccessweek.org/profile/JenniferChan
END:VEVENT
END:VCALENDAR
