BEGIN:VCALENDAR
PRODID:NingEventWidget-v1
VERSION:2.0
METHOD:PUBLISH
BEGIN:VTIMEZONE
TZID:Pacific/Midway
X-LIC-LOCATION:Pacific/Midway
BEGIN:STANDARD
TZOFFSETFROM:-1100
TZOFFSETTO:-1100
TZNAME:SST
DTSTART:19700101T000000
END:STANDARD
END:VTIMEZONE
BEGIN:VEVENT
UID:5385115:Event:139104
DTSTAMP:20260420T232613Z
SUMMARY:What researchers should know about Open Access to scholarly re
 search? A SANRIC / NeDICC seminar
DESCRIPTION:You are invited to a short seminar on OA co-hosted at the 
 HSRC and CSIR by SANRIC and NeDICC. The seminar, which will take place
  during OA Week (an international event now in its 8thÂ year) will pro
 vide an invaluable chance to connect with the globalÂ momentum aimed a
 tÂ the open sharing of information. It is specifically targeted at res
 earchers from South African research institutions but all interested i
 n OA areÂ welcome to attend.\nDate:Â 20 October 2015\nTime:Â 08:00-12:
 00\nVenues:Â HSRC, PretoriaÂ  Â  Â  Â  Â  Â  Â  Â HSRC, Cape TownÂ  Â 
  Â  Â  Â  Â  Â  Â HSRC, DurbanÂ  Â  Â  Â  Â  Â  Â  Â CSIR Knowledge Co
 mmons, Pretoria\nAttendance is free of charge howeverÂ registrationÂ i
 s required by Thursday, 15thÂ October 2015.Â \nâ€”â€”â€”â€”â€”â€”â€”â€
 ”â€”â€”â€”â€”â€”â€”â€”â€”â€”â€”â€”â€”â€”â€”â€”-\nProgramme\n08:00â€“08
 :30 Â Â Registration\n08:30â€“08:40 Â Â Welcome and introductionÂ (Dr 
 Martie van Deventer, CSIR)\n08:40â€“09:30 Â Â Session 1: Keynote addre
 ss\nPresentation title: To be confirmedÂ (Heather Joseph, SPARC)\n09:3
 0â€“09:50 Â Â Session 2: The position of public funders on OA\nNRF sta
 tement on OA to research publicationsÂ (Lazarus Matitzirofa, NRF)\n09:
 50â€“10:10 Â Â Tea\n10:10â€“11:30 Â Â Session 3: What researchers shou
 ld know about OA\nArticleÂ processing chargesÂ (Dr Leti Kleyn, UP)\nAu
 thorâ€™s rightsÂ (Denise Nicholson, WITS)\nCreative Commons LicensingÂ
  (Michelle Willmers, UCT)\nOpen dataÂ (Hilton Gibson, SU)\n11:30â€“12:
 00Â  Â Â Discussion and closureÂ (Segametsi Molawa, HSRC)\nâ€”â€”â€”â€
 ”â€”â€”â€”â€”â€”â€”â€”â€”â€”â€”â€”â€”â€”â€”â€”â€”â€”â€”â€“\nAboutÂ SAN
 RIC: The South African National Research Information Consortium (SANRI
 C) is a collaborative body which strives, through access to informatio
 n, to enable and support globally competitive research.\nAboutÂ NeDICC
 : A network of data and information curationÂ communities. NeDICC aims
  to promote the development and use of research data and information c
 uration standards and practices to ensure the long term preservation a
 nd accessibility of digital research outputs in support of e-Research.
 \n\nFor more information visit http://legacy.openaccessweek.org/events
 /what-researchers-should-know-about-open-access-to-scholarly
DTSTART;TZID=Pacific/Midway:20151020T080000
DTEND;TZID=Pacific/Midway:20151020T120000
CATEGORIES:seminar
LOCATION:South Africa
WEBSITE:https://newsanric.wordpress.com/sanric-events/
URL:https://newsanric.wordpress.com/sanric-events/
CONTACT:
ORGANIZER:Laetitia Louw
ATTACH;FMTTYPE="image/jpeg":
ATTENDEE;ROLE=REQ-PARTICIPANT;PARTSTAT=ACCEPTED;RSVP=TRUE;CN="Ina Smit
 h":http://legacy.openaccessweek.org/profile/InaSmith784
END:VEVENT
END:VCALENDAR
