BEGIN:VCALENDAR
PRODID:NingEventWidget-v1
VERSION:2.0
METHOD:PUBLISH
BEGIN:VTIMEZONE
TZID:Pacific/Midway
X-LIC-LOCATION:Pacific/Midway
BEGIN:STANDARD
TZOFFSETFROM:-1100
TZOFFSETTO:-1100
TZNAME:SST
DTSTART:19700101T000000
END:STANDARD
END:VTIMEZONE
BEGIN:VEVENT
UID:5385115:Event:294464
DTSTAMP:20260421T201918Z
SUMMARY:Webinar: Making Open Access Agreements More Transparent for Au
 thors
DESCRIPTION:ncreasingly, institutions, consortia, and funders sign agr
 eements with publishers to cover the full or partial cost of Article P
 rocessing Charges (APCs) for their authors to publish articles in open
  access. According to the ESAC market watch, in 2021 over 160,000 arti
 cles were published in open access via such agreements. Title lists of
  eligible journals vary from agreement to agreement and don't always i
 nclude all of the publisher's journals - which makes it difficult for 
 authors to understand the exact conditions for publishing their articl
 es in open access.In this webinar, hosted by Romy Beard, Publisher Rel
 ations and Business Development Manager at ChronosHub, we will look at
  four examples of how institutions and publishers present their open a
 ccess agreements to authors. The webinar will last one hour and will i
 nclude four short presentations followed by a discussion and time for 
 questions.Guest speakers:• Dr. Alwaleed Alkajaja, Senior Intellectua
 l Property Librarian and Open Access Coordinator at the Qatar National
  Library• Colleen Campbell, Team Lead for the Open Access Transition
  and External Affairs at the Max Planck Digital Library• Christopher
  Pym, Senior Institutional Engagement Manager at Springer Nature• Sy
 bille Geisenheyner, Director of Open Science Strategy & Licensing at t
 he American Chemical SocietyIf you can't attend, don't worry - we'll s
 end everyone who signed up a recording of the webinar.\n\nFor more inf
 ormation visit http://legacy.openaccessweek.org/events/webinar-making-
 open-access-agreements-more-transparent-for
DTSTART;TZID=Pacific/Midway:20220127T150000
DTEND;TZID=Pacific/Midway:20220127T160000
CATEGORIES:webinar
LOCATION:4
WEBSITE:https://us02web.zoom.us/webinar/register/6616420596611/WN_KTUa
 QUjkQLuLMlxzXJtEgw
URL:https://us02web.zoom.us/webinar/register/6616420596611/WN_KTUaQUjk
 QLuLMlxzXJtEgw
CONTACT:
ORGANIZER:ChronosHub
ATTACH;FMTTYPE="image/jpeg":
ATTENDEE;ROLE=REQ-PARTICIPANT;PARTSTAT=ACCEPTED;RSVP=TRUE;CN="Ariana K
 rasniqi":http://legacy.openaccessweek.org/profile/ArianaKrasniqi
END:VEVENT
END:VCALENDAR
