BEGIN:VCALENDAR
PRODID:NingEventWidget-v1
VERSION:2.0
METHOD:PUBLISH
BEGIN:VTIMEZONE
TZID:Pacific/Midway
X-LIC-LOCATION:Pacific/Midway
BEGIN:STANDARD
TZOFFSETFROM:-1100
TZOFFSETTO:-1100
TZNAME:SST
DTSTART:19700101T000000
END:STANDARD
END:VTIMEZONE
BEGIN:VEVENT
UID:5385115:Event:161339
DTSTAMP:20260420T232221Z
SUMMARY:Webinar: Information wants to be free
DESCRIPTION:Für Hausarbeiten, Seminare, Abschlussarbeiten wird wissen
 schaftliche Literatur benötigt. Nicht immer ist es leicht, daran zu k
 ommen. Dabei geht es auch einfacher: Open Access, der freie Zugang zu 
 wissenschaftlichen Veröffentlichungen, gewinnt an Bedeutung. Studiere
 nde profitieren dabei doppelt: Open Access macht nicht nur die Recherc
 he einfacher, sondern bietet auch die Möglichkeit, eigene wissenschaf
 tliche Arbeiten einfach und kostenlos einer breiten Öffentlichkeit zu
 gänglich zu machen, anstatt sie in der Schublade verstauben zu lassen
 . Wie man die Vorteile von Open Access am besten nutzt, erfahren Sie (
 efahrt ihr?) in diesem 20-minütigen Webinar. Im Anschluss besteht die
  Gelegenheit für Fragen und Diskussion.\n\nFor more information visit
  http://legacy.openaccessweek.org/events/webinar-information-wants-to-
 be-free
DTSTART;TZID=Pacific/Midway:20171024T173000
DTEND;TZID=Pacific/Midway:20171024T180000
CATEGORIES:webinar
LOCATION:Germany
WEBSITE:https://www.tib.eu/de/service/termine/detail/webinar-informati
 on-wants-to-be-free/
URL:https://www.tib.eu/de/service/termine/detail/webinar-information-w
 ants-to-be-free/
CONTACT:
ORGANIZER;CN="Stefan Schmeja":http://legacy.openaccessweek.org/profile
 /StefanSchmeja
ATTACH;FMTTYPE="image/jpeg":
ATTENDEE;ROLE=REQ-PARTICIPANT;PARTSTAT=ACCEPTED;RSVP=TRUE;CN="Stefan S
 chmeja":http://legacy.openaccessweek.org/profile/StefanSchmeja
END:VEVENT
END:VCALENDAR
