BEGIN:VCALENDAR
PRODID:NingEventWidget-v1
VERSION:2.0
METHOD:PUBLISH
BEGIN:VTIMEZONE
TZID:Pacific/Midway
X-LIC-LOCATION:Pacific/Midway
BEGIN:STANDARD
TZOFFSETFROM:-1100
TZOFFSETTO:-1100
TZNAME:SST
DTSTART:19700101T000000
END:STANDARD
END:VTIMEZONE
BEGIN:VEVENT
UID:5385115:Event:114092
DTSTAMP:20260421T010601Z
SUMMARY:Webinar: Changing Publishing landscape
DESCRIPTION:Register\nPublishing in all its forms is changing. There a
 re new open access publishing models, open options for monographs, hyb
 rid membership models for institutions and so much more. The panel wil
 l discuss what is happening in this space, both at their home institut
 ions and abroad, and what the future might bring.\nRegister\n\nFor mor
 e information visit http://legacy.openaccessweek.org/events/webinar-ch
 anging-publishing-landscape
DTSTART;TZID=Pacific/Midway:20141023T123000
DTEND;TZID=Pacific/Midway:20141023T133000
CATEGORIES:webinar, webcast, online
LOCATION:https://australia.webex.com/australia/onstage/g.php?t=a&d=867
 202631
WEBSITE:
URL:
CONTACT:
ORGANIZER;CN="Australasian OA Support Group":http://legacy.openaccessw
 eek.org/profile/AustralianOASupportGroup
ATTACH;FMTTYPE="image/jpeg":
ATTENDEE;ROLE=REQ-PARTICIPANT;PARTSTAT=ACCEPTED;RSVP=TRUE;CN="Australa
 sian OA Support Group":http://legacy.openaccessweek.org/profile/Austra
 lianOASupportGroup
END:VEVENT
END:VCALENDAR
