BEGIN:VCALENDAR
PRODID:NingEventWidget-v1
VERSION:2.0
METHOD:PUBLISH
BEGIN:VTIMEZONE
TZID:Pacific/Midway
X-LIC-LOCATION:Pacific/Midway
BEGIN:STANDARD
TZOFFSETFROM:-1100
TZOFFSETTO:-1100
TZNAME:SST
DTSTART:19700101T000000
END:STANDARD
END:VTIMEZONE
BEGIN:VEVENT
UID:5385115:Event:157907
DTSTAMP:20260422T223216Z
SUMMARY:Web Panel on Academic Publishing Models for Professional Assoc
 iations
DESCRIPTION:For Open Access Week, Florida Tech’s Evans Library is pl
 eased to consider the topic of economic models for academic journal pu
 blishing that can wean us away from past practice with its expensive p
 aywalls.  First, Ivy Anderson, of the University of California’s Ca
 lifornia Digital Library, will report on the SCOAP3 project, with its 
 OA-flipping success in the field of high-energy physics—potentially 
 auspicious as well for analogously focused professional association pu
 blishing.  Next, materials scientists Johna Leddy, of the University 
 of Iowa, and Gerald Frankel, of the Ohio State University, will share 
 the story of the “Free the Science” program undertaken by the Elec
 trochemical Society.  Third, economist Christian Zimmermann (perhaps 
 familiar to scholComm librarians as a driving force behind the RePEc p
 re-print repository) will look at these OA publishing models to help s
 hed light on fruitful paths for future efforts.  We’ll wrap up with
  a Q&A session. \nI hope you can join us, Tuesday, October 24, 2017 f
 rom 2-3 pm Eastern.  No registration required.  Join from PC, Mac, L
 inux, iOS or Android: https://fit.zoom.us/j/268363321\nOr iPhone one-t
 ap :      US: +16699006833,,268363321#  or +16465588656,,268363321
 #  Or Telephone：      Dial(for higher quality, dial a number base
 d on your current location)：          US: +1 669 900 6833  o
 r +1 646 558 8656      Meeting ID: 268 363 321 \n\nFor more inform
 ation visit http://legacy.openaccessweek.org/events/web-panel-on-acade
 mic-publishing-models-for-professional
DTSTART;TZID=Pacific/Midway:20171024T140000
DTEND;TZID=Pacific/Midway:20171024T150000
CATEGORIES:web, panel, discussion
LOCATION:3
WEBSITE:https://fit.zoom.us/j/268363321
URL:https://fit.zoom.us/j/268363321
CONTACT:3216747526
ORGANIZER;CN="David Lowe":http://legacy.openaccessweek.org/profile/Dav
 idLowe
ATTACH;FMTTYPE="image/jpeg":http://storage.ning.com/topology/rest/1.0/
 file/get/3057589419?profile=original
ATTENDEE;ROLE=REQ-PARTICIPANT;PARTSTAT=ACCEPTED;RSVP=TRUE;CN="David Lo
 we":http://legacy.openaccessweek.org/profile/DavidLowe
END:VEVENT
END:VCALENDAR
