BEGIN:VCALENDAR
PRODID:NingEventWidget-v1
VERSION:2.0
METHOD:PUBLISH
BEGIN:VTIMEZONE
TZID:Pacific/Midway
X-LIC-LOCATION:Pacific/Midway
BEGIN:STANDARD
TZOFFSETFROM:-1100
TZOFFSETTO:-1100
TZNAME:SST
DTSTART:19700101T000000
END:STANDARD
END:VTIMEZONE
BEGIN:VEVENT
UID:5385115:Event:146192
DTSTAMP:20260423T020406Z
SUMMARY:Unlocking the Library: Reading, Writing and Working in the Ope
 n
DESCRIPTION:Panel Presentation & Discussion\nTopics and presenters:\n\
 "Libraries and Open Access - What is it? Why does it matter?\" (Anne R
 auh, Librarian for Science and Engineering, Syracuse University)\n \"W
 oolf and OA - would Virginia Woolf support OA?\" (Chris Forster, Assis
 tant Professor of English, Syracuse University)Â Forester will tie the
  themes of OA to those discussed in the COR100 common reading,Â A Room
  of One's Own. Virginia Woolf was an advocate for informationÂ accessÂ
  for all, but as a self-publisher, might she also be concerned for the
  financial implications? Is there a place for OA in the humanities?\n 
 \"Faculty and OA - one scholars experience with publishing in OA\" (Em
 ily Ledgerwood, Assistant Professor, Biology, Le Moyne).Â Ledgerwood w
 ill share her experiences as a scholar who has published in OA journal
 s. Why did she choose this model? What is the importance of OA to the 
 scientific community?\n Location: Grewen Hall Auditorium, Le Moyne Col
 lege, Syracuse, NY 13214\nIn conjunction with the common reading \"A R
 oom of One's Own\" by Virginia Woolf\nSponsored by the Core Curriculum
 ,First Year Experience, and the Noreen Reale Falcone Library.\n\n\nFor
  more information visit http://legacy.openaccessweek.org/events/unlock
 ing-the-library-reading-writing-and-working-in-the-open
DTSTART;TZID=Pacific/Midway:20161026T160000
DTEND;TZID=Pacific/Midway:20161026T170000
CATEGORIES:presentation, "&", panel, discussion
LOCATION:United States of America
WEBSITE:http://www.lemoyne.edu/Visit/Campus-Map
URL:http://www.lemoyne.edu/Visit/Campus-Map
CONTACT:315.445.4154
ORGANIZER:Kelly Delevan,  Instructional Services & Core Librarian
ATTACH;FMTTYPE="image/jpeg":http://storage.ning.com/topology/rest/1.0/
 file/get/3057576965?profile=original
ATTENDEE;ROLE=REQ-PARTICIPANT;PARTSTAT=ACCEPTED;RSVP=TRUE;CN="Inga H. 
 Barnello":http://legacy.openaccessweek.org/profile/IngaHBarnello
END:VEVENT
END:VCALENDAR
