BEGIN:VCALENDAR
PRODID:NingEventWidget-v1
VERSION:2.0
METHOD:PUBLISH
BEGIN:VTIMEZONE
TZID:Pacific/Midway
X-LIC-LOCATION:Pacific/Midway
BEGIN:STANDARD
TZOFFSETFROM:-1100
TZOFFSETTO:-1100
TZNAME:SST
DTSTART:19700101T000000
END:STANDARD
END:VTIMEZONE
BEGIN:VEVENT
UID:5385115:Event:4075
DTSTAMP:20260424T040715Z
SUMMARY:University of Stellenbosch
DESCRIPTION:1. Signing the Berlin Declaration: http://oa.mpg.de/openac
 cess-berlin/berlindeclaration.html\n2. Launching institutional reposit
 ory: http://scholar.sun.ac.za\n3. Video stream all presentations live 
 via Internet\n\nFor more information visit http://legacy.openaccesswee
 k.org/events/university-of-stellenbosch
DTSTART;TZID=Pacific/Midway:20101020T140000
DTEND;TZID=Pacific/Midway:20101020T180000
CATEGORIES:seminar
LOCATION:South Africa
WEBSITE:http://www.sun.ac.za
URL:http://www.sun.ac.za
CONTACT:00 27 21 808 9139
ORGANIZER;CN="Ina Smith":http://legacy.openaccessweek.org/profile/InaS
 mith
ATTACH;FMTTYPE="image/jpeg":
ATTENDEE;ROLE=REQ-PARTICIPANT;PARTSTAT=ACCEPTED;RSVP=TRUE;CN="Ina Smit
 h":http://legacy.openaccessweek.org/profile/InaSmith
END:VEVENT
END:VCALENDAR
