BEGIN:VCALENDAR
PRODID:NingEventWidget-v1
VERSION:2.0
METHOD:PUBLISH
BEGIN:VTIMEZONE
TZID:Pacific/Midway
X-LIC-LOCATION:Pacific/Midway
BEGIN:STANDARD
TZOFFSETFROM:-1100
TZOFFSETTO:-1100
TZNAME:SST
DTSTART:19700101T000000
END:STANDARD
END:VTIMEZONE
BEGIN:VEVENT
UID:5385115:Event:139139
DTSTAMP:20260420T162847Z
SUMMARY:University of Johannesburg OA Display
DESCRIPTION:An online display on Open Access, to create awareness amon
 g students and researchers, and in which they can engage interactively
 .\n\nFor more information visit http://legacy.openaccessweek.org/event
 s/university-of-johannesburg-oa-display
DTSTART;TZID=Pacific/Midway:20151019T180000
DTEND;TZID=Pacific/Midway:20151023T190000
CATEGORIES:online, display
LOCATION:South Africa
WEBSITE:http://www.uj.ac.za/EN/Library/InformationSources/Pages/open-A
 ccess.aspx
URL:http://www.uj.ac.za/EN/Library/InformationSources/Pages/open-Acces
 s.aspx
CONTACT:
ORGANIZER:Makaba Macanda
ATTACH;FMTTYPE="image/jpeg":
ATTENDEE;ROLE=REQ-PARTICIPANT;PARTSTAT=ACCEPTED;RSVP=TRUE;CN="Ina Smit
 h":http://legacy.openaccessweek.org/profile/InaSmith784
END:VEVENT
END:VCALENDAR
