BEGIN:VCALENDAR
PRODID:NingEventWidget-v1
VERSION:2.0
METHOD:PUBLISH
BEGIN:VTIMEZONE
TZID:Pacific/Midway
X-LIC-LOCATION:Pacific/Midway
BEGIN:STANDARD
TZOFFSETFROM:-1100
TZOFFSETTO:-1100
TZNAME:SST
DTSTART:19700101T000000
END:STANDARD
END:VTIMEZONE
BEGIN:VEVENT
UID:5385115:Event:184491
DTSTAMP:20260423T093650Z
SUMMARY:University of California Irvine: Open Access Week 2019
DESCRIPTION:Tuesday, October 22, 2019\n“ Open to Whom?  Open Acces
 s and the Digital Archive”\nWhom are digital archives for? Join us f
 or a panel presentation and discussion on ethical and other considerat
 ions when developing open and accessible digital archives. Moderated b
 y Madelynn Dickerson, Research Librarian for Digital Humanities and Hi
 story. Lunch will be provided.\n 12:00 p.m. – 1:30 p.m. PST\n\nFor
  more information visit http://legacy.openaccessweek.org/events/univer
 sity-of-california-irvine-open-access-week-2019
DTSTART;TZID=Pacific/Midway:20191014T120000
DTEND;TZID=Pacific/Midway:20191014T133000
CATEGORIES:panel, presentation
LOCATION:United States of America
WEBSITE:https://www.lib.uci.edu/open-access-week-2019
URL:https://www.lib.uci.edu/open-access-week-2019
CONTACT:
ORGANIZER;CN="Mitchell C. Brown":http://legacy.openaccessweek.org/prof
 ile/MitchellCBrown
ATTACH;FMTTYPE="image/jpeg":
ATTENDEE;ROLE=REQ-PARTICIPANT;PARTSTAT=ACCEPTED;RSVP=TRUE;CN="Mitchell
  C. Brown":http://legacy.openaccessweek.org/profile/MitchellCBrown
END:VEVENT
END:VCALENDAR
