BEGIN:VCALENDAR
PRODID:NingEventWidget-v1
VERSION:2.0
METHOD:PUBLISH
BEGIN:VTIMEZONE
TZID:Pacific/Midway
X-LIC-LOCATION:Pacific/Midway
BEGIN:STANDARD
TZOFFSETFROM:-1100
TZOFFSETTO:-1100
TZNAME:SST
DTSTART:19700101T000000
END:STANDARD
END:VTIMEZONE
BEGIN:VEVENT
UID:5385115:Event:136847
DTSTAMP:20260425T101521Z
SUMMARY:Universal Access to All Knowledge
DESCRIPTION:BREWSTER KAHLE\nFounder of the Internet Archive\nOn\nThe U
 niversal Access to All Knowledge\nTuesday 13 October 10 – 11 am\nAud
 itorium 0215, Between Buildings 4 & 5\n\nFor more information visit ht
 tp://legacy.openaccessweek.org/events/universal-access-to-all-knowledg
 e
DTSTART;TZID=Pacific/Midway:20151013T100000
DTEND;TZID=Pacific/Midway:20151013T113000
CATEGORIES:guest, lecture
LOCATION:Saudi Arabia
WEBSITE:http://libguides.kaust.edu.sa/oa2015
URL:http://libguides.kaust.edu.sa/oa2015
CONTACT:
ORGANIZER:KAUST Library
ATTACH;FMTTYPE="image/jpeg":http://storage.ning.com/topology/rest/1.0/
 file/get/3057566743?profile=original
ATTENDEE;ROLE=REQ-PARTICIPANT;PARTSTAT=ACCEPTED;RSVP=TRUE;CN="Mohamed 
 Baessa":http://legacy.openaccessweek.org/profile/MohamedBaessa
END:VEVENT
END:VCALENDAR
