BEGIN:VCALENDAR
PRODID:NingEventWidget-v1
VERSION:2.0
METHOD:PUBLISH
BEGIN:VTIMEZONE
TZID:Pacific/Midway
X-LIC-LOCATION:Pacific/Midway
BEGIN:STANDARD
TZOFFSETFROM:-1100
TZOFFSETTO:-1100
TZNAME:SST
DTSTART:19700101T000000
END:STANDARD
END:VTIMEZONE
BEGIN:VEVENT
UID:5385115:Event:134757
DTSTAMP:20260423T014848Z
SUMMARY:UCL Open Access Conference 2015: ‘Open Access Publishing Opt
 ions’
DESCRIPTION:21 October 2-5pm plus drinks reception (5-7pm)\nWoburn Hou
 se, 20 Tavistock Square, London WC1H 9HQ\nTo register (free), visit: h
 ttp://uclopenaccess.eventbrite.co.uk\nJoin us at UCL for an afternoon 
 event to discuss the current Open Access publishing landscape, and the
  variety of publishing models that are emerging. The speakers represen
 t different options for Open Access publishing:\n\nDr Alma Swan, a sch
 olarly communications consultant and former Director of European Advoc
 acy for SPARC, has undertaken major projects investigating Open Access
  and provides a Europe-wide perspective\n\n\nDr Martin Paul Eve, senio
 r lecturer in Literature, Technology and Publishing at Birkbeck, Unive
 rsity of London, and a founder of the Open Library of Humanities, an O
 pen Access journal platform funded by the Andrew W. Mellon Foundation\
 n\n\nRosalind Pyne, Research and Development Manager for Open Research
 , Springer Nature Group, offers her views on how commercial publishers
  are supporting Open Access initiatives\n\n\nLara Speicher, Publishing
  Manager, UCL Press, describes the motives behind setting up UCL Press
 , the first fully OA university press in the UK, and its plans for the
  future.\n\nThe event will be chaired by Professor Cheryl Thompson, Pr
 ofessor of Judicial Studies and Vice Dean (Research), UCL Faculty of L
 aws, and introduced by Dr Paul Ayris, Director of UCL Library Services
  and CEO of UCL Press.\nTo register (free), visit: http://uclopenacces
 s.eventbrite.co.uk\n\nFor more information visit http://legacy.openacc
 essweek.org/events/ucl-open-access-conference-2015-open-access-publish
 ing-options
DTSTART;TZID=Pacific/Midway:20151021T140000
DTEND;TZID=Pacific/Midway:20151021T190000
CATEGORIES:conference
LOCATION:7
WEBSITE:http://uclopenaccess.eventbrite.co.uk
URL:http://uclopenaccess.eventbrite.co.uk
CONTACT:
ORGANIZER:UCL
ATTACH;FMTTYPE="image/jpeg":
ATTENDEE;ROLE=REQ-PARTICIPANT;PARTSTAT=ACCEPTED;RSVP=TRUE;CN="Alison M
 ajor":http://legacy.openaccessweek.org/profile/AlisonMajor
END:VEVENT
END:VCALENDAR
