BEGIN:VCALENDAR
PRODID:NingEventWidget-v1
VERSION:2.0
METHOD:PUBLISH
BEGIN:VTIMEZONE
TZID:Pacific/Midway
X-LIC-LOCATION:Pacific/Midway
BEGIN:STANDARD
TZOFFSETFROM:-1100
TZOFFSETTO:-1100
TZNAME:SST
DTSTART:19700101T000000
END:STANDARD
END:VTIMEZONE
BEGIN:VEVENT
UID:5385115:Event:52500
DTSTAMP:20260419T164724Z
SUMMARY:UAlbany Celebrates Open Access Week
DESCRIPTION:The University at Albany puts the focus on 'open access' a
 t a daylong series of events, highlighted by the keynote presentation 
 of NYU Professor David Hogg's lecture: 'Science, Free Software, and Ci
 tizen Astronomers.' The lecture will be held at 2 p.m. in the Science 
 Library, and is free an open to the public.\nhttp://www.albany.edu/new
 s/18113.php\n\nFor more information visit http://legacy.openaccessweek
 .org/events/ualbany-celebrates-open-access-week
DTSTART;TZID=Pacific/Midway:20111026T120000
DTEND;TZID=Pacific/Midway:20111026T164500
CATEGORIES:forum, lecture, and, tour
LOCATION:University at Albany Uptown Campus
WEBSITE:http://www.albany.edu
URL:http://www.albany.edu
CONTACT:518-442-3300
ORGANIZER:Lorre Smith
ATTACH;FMTTYPE="image/jpeg":http://storage.ning.com/topology/rest/1.0/
 file/get/3057485070?profile=original
ATTENDEE;ROLE=REQ-PARTICIPANT;PARTSTAT=ACCEPTED;RSVP=TRUE;CN="Michael 
 Parker":http://legacy.openaccessweek.org/profile/MichaelParker
END:VEVENT
END:VCALENDAR
