BEGIN:VCALENDAR
PRODID:NingEventWidget-v1
VERSION:2.0
METHOD:PUBLISH
BEGIN:VTIMEZONE
TZID:Pacific/Midway
X-LIC-LOCATION:Pacific/Midway
BEGIN:STANDARD
TZOFFSETFROM:-1100
TZOFFSETTO:-1100
TZNAME:SST
DTSTART:19700101T000000
END:STANDARD
END:VTIMEZONE
BEGIN:VEVENT
UID:5385115:Event:101955
DTSTAMP:20260423T223402Z
SUMMARY:Twitter chat on Open access, medical research and global healt
 h  #BMCMed
DESCRIPTION:In recognition of Open Access Week, we will be hosting a 
 1 hour Twitter-chat to discuss how open access publishing impacts medi
 cal research and global . We will be joined in the discussion by a ve
 ry prominent group of researchers:Agnes Binagwaho (@agnesbinagwaho), C
 harles Wiysonge (@CharlesShey) and Prabhat Jha (@countthedead) for a o
 ne hour Twitter-chat on Monday 21st October at 4 pm UK time. The Twi
 tter-chat will use the hashtag #BMCMed, and will be moderated from th
 e @BMCMedicine account. More information here: http://blogs.biomedc
 entral.com/bmcblog/2013/10/15/open-access-medical-research-and-global-
 health-a-bmc-medicine-twitter-chat-bmcmed/\n\nFor more information vis
 it http://legacy.openaccessweek.org/events/twitter-chat-on-open-access
 -medical-research-and-global-health
DTSTART;TZID=Pacific/Midway:20131021T160000
DTEND;TZID=Pacific/Midway:20131021T170000
CATEGORIES:twitter-chat, "#bmcmed"
LOCATION:Twitter
WEBSITE:http://blogs.biomedcentral.com/bmcblog/2013/10/15/open-access-
 medical-research-and-global-health-a-bmc-medicine-twitter-chat-bmcmed/
URL:http://blogs.biomedcentral.com/bmcblog/2013/10/15/open-access-medi
 cal-research-and-global-health-a-bmc-medicine-twitter-chat-bmcmed/
CONTACT:
ORGANIZER;CN="Sabina Alam":http://legacy.openaccessweek.org/profile/Sa
 binaAlam
ATTACH;FMTTYPE="image/jpeg":http://storage.ning.com/topology/rest/1.0/
 file/get/3057527624?profile=original
ATTENDEE;ROLE=REQ-PARTICIPANT;PARTSTAT=ACCEPTED;RSVP=TRUE;CN="Sabina A
 lam":http://legacy.openaccessweek.org/profile/SabinaAlam
ATTENDEE;ROLE=REQ-PARTICIPANT;PARTSTAT=ACCEPTED;RSVP=TRUE;CN="BioMed C
 entral":http://legacy.openaccessweek.org/profile/biomedcentral
END:VEVENT
END:VCALENDAR
