BEGIN:VCALENDAR
PRODID:NingEventWidget-v1
VERSION:2.0
METHOD:PUBLISH
BEGIN:VTIMEZONE
TZID:Pacific/Midway
X-LIC-LOCATION:Pacific/Midway
BEGIN:STANDARD
TZOFFSETFROM:-1100
TZOFFSETTO:-1100
TZNAME:SST
DTSTART:19700101T000000
END:STANDARD
END:VTIMEZONE
BEGIN:VEVENT
UID:5385115:Event:77897
DTSTAMP:20260421T024952Z
SUMMARY:Training session: What can do UJI Repository for you?
DESCRIPTION:Workshop to Universitat Jaume I teachers and researchers t
 o show the benefits of publishing in UJI Repository.\n\nFor more infor
 mation visit http://legacy.openaccessweek.org/events/training-session-
 what-can-do-uji-repository-for-you
DTSTART;TZID=Pacific/Midway:20121026T230000
DTEND;TZID=Pacific/Midway:20121026T233000
CATEGORIES:training, session
LOCATION:Library of  Universitat Jaume I
WEBSITE:http://www.uji.es/UK/cd/&url=/CA/cd/
URL:http://www.uji.es/UK/cd/&url=/CA/cd/
CONTACT:
ORGANIZER:Library of Universitat Jaume I
ATTACH;FMTTYPE="image/jpeg":
ATTENDEE;ROLE=REQ-PARTICIPANT;PARTSTAT=ACCEPTED;RSVP=TRUE;CN="Lidón P
 arís Folch":http://legacy.openaccessweek.org/profile/LidonParisFolch
END:VEVENT
END:VCALENDAR
