BEGIN:VCALENDAR
PRODID:NingEventWidget-v1
VERSION:2.0
METHOD:PUBLISH
BEGIN:VTIMEZONE
TZID:Pacific/Midway
X-LIC-LOCATION:Pacific/Midway
BEGIN:STANDARD
TZOFFSETFROM:-1100
TZOFFSETTO:-1100
TZNAME:SST
DTSTART:19700101T000000
END:STANDARD
END:VTIMEZONE
BEGIN:VEVENT
UID:5385115:Event:78074
DTSTAMP:20260421T030649Z
SUMMARY:Training session: Open Access Digital Resources
DESCRIPTION:The library of the Universitat Jaume I organizes training 
 sessions  to promote UJI Repository:\n- training session to students,
  teachers and researchers to show the UJI Repository content and its f
 eatures and functions.\n.\n\nFor more information visit http://legacy.
 openaccessweek.org/events/training-session-open-access-digital-resourc
 es
DTSTART;TZID=Pacific/Midway:20121025T130000
DTEND;TZID=Pacific/Midway:20121025T133000
CATEGORIES:training, sessions
LOCATION:Library of Universitat Jaume I
WEBSITE:http://www.uji.es/UK/cd/&url=/CA/cd/
URL:http://www.uji.es/UK/cd/&url=/CA/cd/
CONTACT:
ORGANIZER:Universitat Jaume I Library
ATTACH;FMTTYPE="image/jpeg":
ATTENDEE;ROLE=REQ-PARTICIPANT;PARTSTAT=ACCEPTED;RSVP=TRUE;CN="Lidón P
 arís Folch":http://legacy.openaccessweek.org/profile/LidonParisFolch
END:VEVENT
END:VCALENDAR
