BEGIN:VCALENDAR
PRODID:NingEventWidget-v1
VERSION:2.0
METHOD:PUBLISH
BEGIN:VTIMEZONE
TZID:Pacific/Midway
X-LIC-LOCATION:Pacific/Midway
BEGIN:STANDARD
TZOFFSETFROM:-1100
TZOFFSETTO:-1100
TZNAME:SST
DTSTART:19700101T000000
END:STANDARD
END:VTIMEZONE
BEGIN:VEVENT
UID:5385115:Event:183749
DTSTAMP:20260423T075605Z
SUMMARY:TICAR 2019 - Mesa de Acceso Abierto
DESCRIPTION:Mesa Acceso Abierto\nAlberto Apollaro (Secretaría de Gob
 ierno de Ciencia, Tecnología e Innovación Productiva): “Importanc
 ia del apoyo de los sectores TIC a los repositorios. El caso del SNRD
 . Se presenta el cosechador del Sistema Nacional de Repositorios Dig
 itales enfocándose en las reglas de validación y transformación que
  permiten optimizar las cosechas, y a través de los reportes de error
 es, apoyar a los gestores de repositorios digitales institucionales en
  el incremento de la calidad de los metadatos cosechados.         
                            \nCecilia Rozemblum (UNLP) y
  Guillermo Banzato (UNLP-CONICET): “Modelo de edición científic
 a interoperable y sustentable en Acceso Abierto para la soberanía del
  conocimiento”. La edición de revistas científicas se ha enrique
 cido en estos últimos años con la adopción de herramientas que pe
 rmiten describir los contenidos de una manera absolutamente desagregad
 a, específicamente en nuestro caso hablamos de la adopción de archiv
 os xml como base de generación de productos de publicación como PDF,
  HTML e e-pub. Esta tarea se puede realizar gracias a la herramienta 
 Marcalyc/AmeliCA que desarrollo RedaLyC para su base de datos y que es
 tá a disposición de las revistas que integran tanto ese sistema como
  el portal de libros y revistas de la nueva iniciativa AmeliCA.    
                                                
                              \nEsteban Fernández  (S
 eDiCi UNLP - Cic Digital):  \"Servicio de digitalización de los re
 positorios SEDICI y  CIC Digital: herramientas, estándares y objetiv
 os para la preservación del patrimonio cultural\".  Esta presentaci
 n estará dedicada a describir las facilidades generales con que se c
 uenta para distintos procesos de digitalización  que se llevan delan
 te de acuerdo al tipo de obra y el estado de conservación de la misma
  en el marco de los proyectos de recuperación patrimonial en el repos
 itorio central de la UNLP, SEDICI y en el repositorio CIC Digital de l
 a Comisión de Investigaciones Científicas de la Provincia de Buenos 
 Aires.                                          
                                               
               \n\nFor more information visit http://legacy.open
 accessweek.org/events/ticar-2019-mesa-de-acceso-abierto
DTSTART;TZID=Pacific/Midway:20191003T143000
DTEND;TZID=Pacific/Midway:20191003T163000
CATEGORIES:workshop, taller
LOCATION:Argentina
WEBSITE:https://unr.edu.ar/evento/2479/ticar-2019
URL:https://unr.edu.ar/evento/2479/ticar-2019
CONTACT:543414201200
ORGANIZER:Comité de Acceso Abierto. Unidad de Gestión de Acceso Abie
 rto. Tecnología de la Información. Universidad Nacional de Rosario
ATTACH;FMTTYPE="image/jpeg":
ATTENDEE;ROLE=REQ-PARTICIPANT;PARTSTAT=ACCEPTED;RSVP=TRUE;CN="Paola Ca
 rolina Bongiovani":http://legacy.openaccessweek.org/profile/PaolaCarol
 inaBongiovani
END:VEVENT
END:VCALENDAR
