BEGIN:VCALENDAR
PRODID:NingEventWidget-v1
VERSION:2.0
METHOD:PUBLISH
BEGIN:VTIMEZONE
TZID:Pacific/Midway
X-LIC-LOCATION:Pacific/Midway
BEGIN:STANDARD
TZOFFSETFROM:-1100
TZOFFSETTO:-1100
TZNAME:SST
DTSTART:19700101T000000
END:STANDARD
END:VTIMEZONE
BEGIN:VEVENT
UID:5385115:Event:47974
DTSTAMP:20260420T220523Z
SUMMARY:The University of Auckland Library New Zealand - Open Access A
 wareness
DESCRIPTION:Join us at these times:\n10.00 Short Video and Panel Discu
 ssion\nYou are invited to join University personnel who have been invo
 lved in the publishing of Open Access Journals  at a Panel Discussion
  on the benefits and pitfalls of the Open Access Publishing.   The d
 iscussion will provide valuable insight and assistance to anyone consi
 dering contributing to or publishing Open Access Journals.\n10.45 “O
 pen Access for Beginners” presentation\nWhat is the Open Access move
 ment all about? What are the benefits and drawbacks of Open Access pub
 lishing? Who ends up paying for these \"free\" publications?\n \nThis
  session will introduce you to the background to Open Access publishin
 g, its recent history, and possible developments.\n11.15 Break-out Gro
 up\n\nFor more information visit http://legacy.openaccessweek.org/even
 ts/the-university-of-auckland-new-zealand-open-access-awareness
DTSTART;TZID=Pacific/Midway:20111026T100000
DTEND;TZID=Pacific/Midway:20111026T123000
CATEGORIES:presentation, and, panel, discussion
LOCATION:Kate Edger Information Commons Seminar Room Level 4 KEIC 420
WEBSITE:http://www.information-commons.auckland.ac.nz/?page=location
URL:http://www.information-commons.auckland.ac.nz/?page=location
CONTACT:
ORGANIZER:Leonie Hayes l.hayes@auckland.ac.nz
ATTACH;FMTTYPE="image/jpeg":http://storage.ning.com/topology/rest/1.0/
 file/get/3057478039?profile=original
ATTENDEE;ROLE=REQ-PARTICIPANT;PARTSTAT=ACCEPTED;RSVP=TRUE;CN="Musarrat
  Begum":http://legacy.openaccessweek.org/profile/MusarratBegum
ATTENDEE;ROLE=REQ-PARTICIPANT;PARTSTAT=ACCEPTED;RSVP=TRUE;CN="Lai Kei 
 Pang":http://legacy.openaccessweek.org/profile/LaiKeiPang
ATTENDEE;ROLE=REQ-PARTICIPANT;PARTSTAT=ACCEPTED;RSVP=TRUE;CN="Philip A
 bela":http://legacy.openaccessweek.org/profile/PhilipAbela
ATTENDEE;ROLE=REQ-PARTICIPANT;PARTSTAT=ACCEPTED;RSVP=TRUE;CN="Leonie H
 ayes":http://legacy.openaccessweek.org/profile/LeonieHayes
ATTENDEE;ROLE=REQ-PARTICIPANT;PARTSTAT=ACCEPTED;RSVP=TRUE;CN="Yanan Zh
 ao":http://legacy.openaccessweek.org/profile/YananZhao
ATTENDEE;ROLE=REQ-PARTICIPANT;PARTSTAT=ACCEPTED;RSVP=TRUE;CN="Linda Ge
 orge":http://legacy.openaccessweek.org/profile/LindaGeorge
ATTENDEE;ROLE=REQ-PARTICIPANT;PARTSTAT=ACCEPTED;RSVP=TRUE;CN="Mark Han
 gartner":http://legacy.openaccessweek.org/profile/MarkHangartner
ATTENDEE;ROLE=REQ-PARTICIPANT;PARTSTAT=ACCEPTED;RSVP=TRUE;CN="Simona T
 raser":http://legacy.openaccessweek.org/profile/SimonaTraser
END:VEVENT
END:VCALENDAR
