BEGIN:VCALENDAR
PRODID:NingEventWidget-v1
VERSION:2.0
METHOD:PUBLISH
BEGIN:VTIMEZONE
TZID:Pacific/Midway
X-LIC-LOCATION:Pacific/Midway
BEGIN:STANDARD
TZOFFSETFROM:-1100
TZOFFSETTO:-1100
TZNAME:SST
DTSTART:19700101T000000
END:STANDARD
END:VTIMEZONE
BEGIN:VEVENT
UID:5385115:Event:148963
DTSTAMP:20260421T024953Z
SUMMARY:The Revolution Will Not Be Televised (but it may be tweeted)
DESCRIPTION:As part of International Open Access Week, Brunel invites 
 all academics and students to a conference which brings together indu
 stry professionals and Brunel researchers to talk about their commitme
 nt to making openness in research a reality.\nTune in to our livestre
 am to catch a talk by Mike Taylor from Digital Science\nAbstract: Metr
 ics, evaluation and the worth of research are intrinsically wrapped in
  politics and policy. As with political revolutions, revolutions in ot
 her areas of life leave us open to disruption - and 2016 is nothing, i
 f not disruptive. The revolutions of open science, big data and cloud 
 computing offer some amazing opportunities for those of involved in me
 trics and evaluation to get closer, and more personal, with the proble
 ms faced by the typical researcher. But at such times in history, we a
 re also vulnerable to disruption.\n\nFor more information visit http:/
 /legacy.openaccessweek.org/events/the-revolution-will-not-be-televised
 -but-it-may-be-tweeted
DTSTART;TZID=Pacific/Midway:20161027T103000
DTEND;TZID=Pacific/Midway:20161027T230000
CATEGORIES:talk, online, chat, presentation
LOCATION:United Kingdom
WEBSITE:https://livestream.com/Brunel/andbeyond
URL:https://livestream.com/Brunel/andbeyond
CONTACT:
ORGANIZER;CN="Brunel University London":http://legacy.openaccessweek.o
 rg/profile/BrunelUniversityLondon
ATTACH;FMTTYPE="image/jpeg":http://storage.ning.com/topology/rest/1.0/
 file/get/3057580587?profile=original
ATTENDEE;ROLE=REQ-PARTICIPANT;PARTSTAT=ACCEPTED;RSVP=TRUE;CN="Brunel U
 niversity London":http://legacy.openaccessweek.org/profile/BrunelUnive
 rsityLondon
END:VEVENT
END:VCALENDAR
