BEGIN:VCALENDAR
PRODID:NingEventWidget-v1
VERSION:2.0
METHOD:PUBLISH
BEGIN:VTIMEZONE
TZID:Pacific/Midway
X-LIC-LOCATION:Pacific/Midway
BEGIN:STANDARD
TZOFFSETFROM:-1100
TZOFFSETTO:-1100
TZNAME:SST
DTSTART:19700101T000000
END:STANDARD
END:VTIMEZONE
BEGIN:VEVENT
UID:5385115:Event:50482
DTSTAMP:20260419T092534Z
SUMMARY:The Open Access Authors Fund At The University Of Calgary: His
 tory and Evaluation
DESCRIPTION:Andrew Waller, Licensing and Negotiation Librarian/Open Ac
 cess Librarian at the University of Calgary’s Scholarly Communicatio
 n Centre, will discuss in a webinar his institution's involvement with
  Open Access, including the development and maintenance of its Open Ac
 cess Authors Fund.  More information is at http://www.uregina.ca/even
 ts/?m=10&y=2011&d=26&id=360&cat=\n\nFor more information visit http://
 legacy.openaccessweek.org/events/the-open-access-authors-fund-at-the-u
 niversity-of-calgary-history
DTSTART;TZID=Pacific/Midway:20111026T140000
DTEND;TZID=Pacific/Midway:20111026T150000
CATEGORIES:public, lecture
LOCATION:University of Regina Dr. John Archer Library
WEBSITE:http://g.co/maps/tcgru
URL:http://g.co/maps/tcgru
CONTACT:306.585.5418
ORGANIZER;CN="Michael Shires":http://legacy.openaccessweek.org/profile
 /MichaelShires
ATTACH;FMTTYPE="image/jpeg":
ATTENDEE;ROLE=REQ-PARTICIPANT;PARTSTAT=ACCEPTED;RSVP=TRUE;CN="Michael 
 Shires":http://legacy.openaccessweek.org/profile/MichaelShires
END:VEVENT
END:VCALENDAR
