BEGIN:VCALENDAR
PRODID:NingEventWidget-v1
VERSION:2.0
METHOD:PUBLISH
BEGIN:VTIMEZONE
TZID:Pacific/Midway
X-LIC-LOCATION:Pacific/Midway
BEGIN:STANDARD
TZOFFSETFROM:-1100
TZOFFSETTO:-1100
TZNAME:SST
DTSTART:19700101T000000
END:STANDARD
END:VTIMEZONE
BEGIN:VEVENT
UID:5385115:Event:139588
DTSTAMP:20260420T001405Z
SUMMARY:The OA journal \"Nordic Perspectives on Open Science\" launche
 s!
DESCRIPTION:The OA journal Nordic Perspectives on Open Science launche
 s today.\nNordic Perspectives on Open Science is a non-peer reviewed j
 ournal on all aspects of Open Science – Open Access, Open Data, Open
  Peer Review and open research collaboration models are among themes 
 that will be of interest.\nThe journal is based in the Nordic countrie
 s, and will actively solicit manuscripts from Nordic stakeholders, in 
 order to be a place to highlight news, experiences, experiments, polic
 ies, research and viewpoints on Open Science from or pertaining to the
  Nordic countries. We also want the journal to be a place for stakehol
 ders from the Baltic countries.\nAnnouncements about Open Science-rela
 ted conferences or other activities that our audience should know abou
 t are also welcomed, and so are reviews of relevant literature - text
 books, monographs, doctoral or master's theses.\n\nFor more informatio
 n visit http://legacy.openaccessweek.org/events/the-oa-journal-nordic-
 perspectives-on-open-science-launches
DTSTART;TZID=Pacific/Midway:20151023T180000
DTEND;TZID=Pacific/Midway:20151231T190000
CATEGORIES:new, oa, journal, on, open, science
LOCATION:Norway
WEBSITE:http://nopos.eu/
URL:http://nopos.eu/
CONTACT:(+47) 77 64 49 50
ORGANIZER;CN="Jan Erik Frantsvåg":http://legacy.openaccessweek.org/pr
 ofile/JanErikFrantsvaag
ATTACH;FMTTYPE="image/jpeg":http://storage.ning.com/topology/rest/1.0/
 file/get/3057569416?profile=original
ATTENDEE;ROLE=REQ-PARTICIPANT;PARTSTAT=ACCEPTED;RSVP=TRUE;CN="Jan Erik
  Frantsvåg":http://legacy.openaccessweek.org/profile/JanErikFrantsvaa
 g
END:VEVENT
END:VCALENDAR
