BEGIN:VCALENDAR
PRODID:NingEventWidget-v1
VERSION:2.0
METHOD:PUBLISH
BEGIN:VTIMEZONE
TZID:Pacific/Midway
X-LIC-LOCATION:Pacific/Midway
BEGIN:STANDARD
TZOFFSETFROM:-1100
TZOFFSETTO:-1100
TZNAME:SST
DTSTART:19700101T000000
END:STANDARD
END:VTIMEZONE
BEGIN:VEVENT
UID:5385115:Event:139431
DTSTAMP:20260421T014221Z
SUMMARY:The New Clothes of European Carnival
DESCRIPTION:Open lecture on dynamics of European Carnivals. Students w
 ill present history and contemporary way of celebrating Halloween as w
 ell as other global festivals.\n\n\nFor more information visit http://
 legacy.openaccessweek.org/events/the-new-clothes-of-european-carnival
DTSTART;TZID=Pacific/Midway:20151027T180000
DTEND;TZID=Pacific/Midway:20151027T230000
CATEGORIES:open, lecture
LOCATION:Bulgaria
WEBSITE:https://www.google.bg/maps/@43.0812925,25.6296764,17z?hl=bg
URL:https://www.google.bg/maps/@43.0812925,25.6296764,17z?hl=bg
CONTACT:
ORGANIZER:professor Margarita Karamihova,
ATTACH;FMTTYPE="image/jpeg":
ATTENDEE;ROLE=REQ-PARTICIPANT;PARTSTAT=ACCEPTED;RSVP=TRUE;CN="Margarit
 a karamihova":http://legacy.openaccessweek.org/profile/Margaritakarami
 hova
END:VEVENT
END:VCALENDAR
