BEGIN:VCALENDAR
PRODID:NingEventWidget-v1
VERSION:2.0
METHOD:PUBLISH
BEGIN:VTIMEZONE
TZID:Pacific/Midway
X-LIC-LOCATION:Pacific/Midway
BEGIN:STANDARD
TZOFFSETFROM:-1100
TZOFFSETTO:-1100
TZNAME:SST
DTSTART:19700101T000000
END:STANDARD
END:VTIMEZONE
BEGIN:VEVENT
UID:5385115:Event:136440
DTSTAMP:20260421T031448Z
SUMMARY:The Good, the Bad, and the Ugly: Navigating the Wild West of O
 pen Access Publishing
DESCRIPTION:There’s a “Gold rush” happening in the new frontier 
 of open access publishing! As publishers experiment with new business 
 models, there’s an explosion of new journal titles and publishers. I
 n the tradition of all boomtowns, outlaws move in as well as upstandin
 g citizens - and they often look alike. With no real marshall in town,
  how can researchers sort out the good guys from the bad?\nScholarly C
 ommunications Librarian Anali Perry will be joined by Associate Profes
 sor Katie Hinde, Professor Kevin McGraw, Assistant Professor Jason Ray
 mond, and edXchange Publication Manager Stephanie Schreiner to discuss
  the benefits and challenges of open access publishing.\n\nFor more in
 formation visit http://legacy.openaccessweek.org/events/the-good-the-b
 ad-and-the-ugly-navigating-the-wild-west-of-open
DTSTART;TZID=Pacific/Midway:20151020T133000
DTEND;TZID=Pacific/Midway:20151020T150000
CATEGORIES:panel
LOCATION:United States of America
WEBSITE:https://lib.asu.edu/librarychannel/event-1020-open-access-publ
 ishing
URL:https://lib.asu.edu/librarychannel/event-1020-open-access-publishi
 ng
CONTACT:
ORGANIZER;CN="Anali Maughan Perry":http://legacy.openaccessweek.org/pr
 ofile/AnaliMaughanPerry
ATTACH;FMTTYPE="image/jpeg":http://storage.ning.com/topology/rest/1.0/
 file/get/3057490052?profile=original
ATTENDEE;ROLE=REQ-PARTICIPANT;PARTSTAT=ACCEPTED;RSVP=TRUE;CN="Anali Ma
 ughan Perry":http://legacy.openaccessweek.org/profile/AnaliMaughanPerr
 y
END:VEVENT
END:VCALENDAR
