BEGIN:VCALENDAR
PRODID:NingEventWidget-v1
VERSION:2.0
METHOD:PUBLISH
BEGIN:VTIMEZONE
TZID:Pacific/Midway
X-LIC-LOCATION:Pacific/Midway
BEGIN:STANDARD
TZOFFSETFROM:-1100
TZOFFSETTO:-1100
TZNAME:SST
DTSTART:19700101T000000
END:STANDARD
END:VTIMEZONE
BEGIN:VEVENT
UID:5385115:Event:172609
DTSTAMP:20260422T071900Z
SUMMARY:The Current Status of Open Access
DESCRIPTION: Mikael Laakso, Associate Professor Information Systems S
 cience at Hanken School of Economics in Helsinki gives a talk at Uppsa
 la University.\nNew to Open Access? No problem, this talk is aimed to 
 suit both newcomers and those more advanced in their knowledge about t
 he changing landscape of scholarly publishing.\nMikael Laakso's resear
 ch has focused on bibliometric and economic studies on Open Access so 
 he will provide insight into the longitudinal growth of open access pu
 blishing within the major scientific disciplines.\n While a large sha
 re of the worlds research is still only made available through subscri
 ption-access, there is an ongoing shift towards openness both bottom-u
 p among researchers and top-down through science policy.\n As part of
  the general overview Mikael Laakso will include a review the benefits
  of Open Access for major stakeholder groups (author, reader, the jour
 nal, the general public and wider society).\n The last part of Mikael
  Laakso's talk will focus on actions that individual researchers can t
 ake in facilitating open access to their research, avoiding pitfalls a
 nd making the most out of limitless readership to research outputs.\n\
 nFor more information visit http://legacy.openaccessweek.org/events/th
 e-current-status-of-open-access
DTSTART;TZID=Pacific/Midway:20181023T131500
DTEND;TZID=Pacific/Midway:20181023T143000
CATEGORIES:lecture, discussion
LOCATION:Sweden
WEBSITE:http://www.ub.uu.se/om-biblioteket/kurser-och-evenemang/kalend
 arium-detaljvy/?eventId=38206
URL:http://www.ub.uu.se/om-biblioteket/kurser-och-evenemang/kalendariu
 m-detaljvy/?eventId=38206
CONTACT:
ORGANIZER:Uppsala University Library, Anu-Marja Salminoja
ATTACH;FMTTYPE="image/jpeg":http://storage.ning.com/topology/rest/1.0/
 file/get/3057610633?profile=original
ATTENDEE;ROLE=REQ-PARTICIPANT;PARTSTAT=ACCEPTED;RSVP=TRUE;CN="Anu-Marj
 a Salminoja":http://legacy.openaccessweek.org/profile/AnuMarjaSalminoj
 a
END:VEVENT
END:VCALENDAR
