BEGIN:VCALENDAR
PRODID:NingEventWidget-v1
VERSION:2.0
METHOD:PUBLISH
BEGIN:VTIMEZONE
TZID:Pacific/Midway
X-LIC-LOCATION:Pacific/Midway
BEGIN:STANDARD
TZOFFSETFROM:-1100
TZOFFSETTO:-1100
TZNAME:SST
DTSTART:19700101T000000
END:STANDARD
END:VTIMEZONE
BEGIN:VEVENT
UID:5385115:Event:8425
DTSTAMP:20260423T233314Z
SUMMARY:The commitment of the Universitat de Barcelona to open access 
 publishing
DESCRIPTION:Conference in Catalan about open access journals and the c
 ommitment of the Universitat de Barcelona after the establishing of a 
 fund for publishing in such journals and the signature of the Compact 
 for the Open Access Publishing Equity.\nThe speakers will be Rosa Zabo
 rras and Manel Ibáñez, librarians from the Universitat de Barcelona.
 \nMore info at http://www.ub.edu/odc\n\nFor more information visit htt
 p://legacy.openaccessweek.org/events/the-commitment-of-the
DTSTART;TZID=Pacific/Midway:20101021T120000
DTEND;TZID=Pacific/Midway:20101021T140000
CATEGORIES:conference
LOCATION:Aula 2, Biblioteca de la Facultat de Biologia, Universitat de
  Barcelona
WEBSITE:http://maps.google.com/maps/place?cid=6670794780210254510&q=av
 .+diagonal,+645+barcelona&hl=ca&cd=2&cad=src:pplink&ei=elG4TPAE3I78BsO
 f9fYN&sig2=s03RyRJPcqI14VkYLMVbYg
URL:http://maps.google.com/maps/place?cid=6670794780210254510&q=av.+di
 agonal,+645+barcelona&hl=ca&cd=2&cad=src:pplink&ei=elG4TPAE3I78BsOf9fY
 N&sig2=s03RyRJPcqI14VkYLMVbYg
CONTACT:
ORGANIZER:Oficina de Difusió del Coneixement - CRAI UB
ATTACH;FMTTYPE="image/jpeg":http://storage.ning.com/topology/rest/1.0/
 file/get/3057470450?profile=original
ATTENDEE;ROLE=REQ-PARTICIPANT;PARTSTAT=ACCEPTED;RSVP=TRUE;CN="Ignasi L
 abastida":http://legacy.openaccessweek.org/profile/IgnasiLabastida
END:VEVENT
END:VCALENDAR
