BEGIN:VCALENDAR
PRODID:NingEventWidget-v1
VERSION:2.0
METHOD:PUBLISH
BEGIN:VTIMEZONE
TZID:Pacific/Midway
X-LIC-LOCATION:Pacific/Midway
BEGIN:STANDARD
TZOFFSETFROM:-1100
TZOFFSETTO:-1100
TZNAME:SST
DTSTART:19700101T000000
END:STANDARD
END:VTIMEZONE
BEGIN:VEVENT
UID:5385115:Event:116110
DTSTAMP:20260419T193903Z
SUMMARY:The Challenge of Openness and Transparency in Scholarly Commun
 ication
DESCRIPTION:Panel presentation featuring: Maryann Martone, Executive D
 irector, Force11; Peter Binfield, Founder, PeerJ; Rachel Burley, Vice 
 President and Director, Open Access, John Wiley & Sons, Inc.; and Jenn
 ifer Lin, Senior Project Manager, Public Library of Sciences (PLoS) A
  distinguished panel representing both traditional and Open Access pub
 lishing interests will discuss drivers and barriers to openness and tr
 ansparency in scholarly communication.\n\nFor more information visit h
 ttp://legacy.openaccessweek.org/events/the-challenge-of-openness-and-t
 ransparency-in-scholarly
DTSTART;TZID=Pacific/Midway:20141022T163000
DTEND;TZID=Pacific/Midway:20141022T180000
CATEGORIES:panel, presentation
LOCATION:Carnegie Mellon University
WEBSITE:http://openaccess.pitt.edu/OAWeek.html
URL:http://openaccess.pitt.edu/OAWeek.html
CONTACT:oscp@mail.pitt.edu
ORGANIZER:OA@Pitt. Cohosted by the University Libraries of Carnegie Me
 llon University and the University Library System, University of Pitts
 burgh.
ATTACH;FMTTYPE="image/jpeg":http://storage.ning.com/topology/rest/1.0/
 file/get/2890169834?profile=original
ATTENDEE;ROLE=REQ-PARTICIPANT;PARTSTAT=ACCEPTED;RSVP=TRUE;CN="OA@Pitt"
 :http://legacy.openaccessweek.org/profile/OAPitt
END:VEVENT
END:VCALENDAR
