BEGIN:VCALENDAR
PRODID:NingEventWidget-v1
VERSION:2.0
METHOD:PUBLISH
BEGIN:VTIMEZONE
TZID:Pacific/Midway
X-LIC-LOCATION:Pacific/Midway
BEGIN:STANDARD
TZOFFSETFROM:-1100
TZOFFSETTO:-1100
TZNAME:SST
DTSTART:19700101T000000
END:STANDARD
END:VTIMEZONE
BEGIN:VEVENT
UID:5385115:Event:207228
DTSTAMP:20260419T071623Z
SUMMARY:The ABC of APCs - how to save and win
DESCRIPTION:Karin Groth\n(in German)\nOpen Access publishing is often 
 associated with some costs. In this coffee lecture we show you how the
  library can support you in publishing your article free of charge or 
 at a discount and what added value you can achieve for your publicatio
 n.\n\nFor more information visit http://legacy.openaccessweek.org/even
 ts/the-abc-of-apcs-how-to-save-and-win
DTSTART;TZID=Pacific/Midway:20201022T140000
DTEND;TZID=Pacific/Midway:20201022T143000
CATEGORIES:"coffee lecture"
LOCATION:Germany
WEBSITE:https://blog.sub.uni-hamburg.de/?p=30056
URL:https://blog.sub.uni-hamburg.de/?p=30056
CONTACT:
ORGANIZER;CN="SUB Hamburg Open Science Unit":http://legacy.openaccessw
 eek.org/profile/SUBHamburgOpenAccess
ATTACH;FMTTYPE="image/jpeg":
ATTENDEE;ROLE=REQ-PARTICIPANT;PARTSTAT=ACCEPTED;RSVP=TRUE;CN="SUB Hamb
 urg Open Science Unit":http://legacy.openaccessweek.org/profile/SUBHam
 burgOpenAccess
END:VEVENT
END:VCALENDAR
