BEGIN:VCALENDAR
PRODID:NingEventWidget-v1
VERSION:2.0
METHOD:PUBLISH
BEGIN:VTIMEZONE
TZID:Pacific/Midway
X-LIC-LOCATION:Pacific/Midway
BEGIN:STANDARD
TZOFFSETFROM:-1100
TZOFFSETTO:-1100
TZNAME:SST
DTSTART:19700101T000000
END:STANDARD
END:VTIMEZONE
BEGIN:VEVENT
UID:5385115:Event:157742
DTSTAMP:20260421T030506Z
SUMMARY:test
DESCRIPTION:test\n\nFor more information visit http://legacy.openacces
 sweek.org/events/test
DTSTART;TZID=Pacific/Midway:20170914T180000
DTEND;TZID=Pacific/Midway:20170914T190000
CATEGORIES:test
LOCATION:Ireland
WEBSITE:
URL:
CONTACT:
ORGANIZER;CN="Angelica Risquez":http://legacy.openaccessweek.org/profi
 le/AngelicaRisquez
ATTACH;FMTTYPE="image/jpeg":
ATTENDEE;ROLE=REQ-PARTICIPANT;PARTSTAT=ACCEPTED;RSVP=TRUE;CN="Angelica
  Risquez":http://legacy.openaccessweek.org/profile/AngelicaRisquez
END:VEVENT
END:VCALENDAR
