BEGIN:VCALENDAR
PRODID:NingEventWidget-v1
VERSION:2.0
METHOD:PUBLISH
BEGIN:VTIMEZONE
TZID:Pacific/Midway
X-LIC-LOCATION:Pacific/Midway
BEGIN:STANDARD
TZOFFSETFROM:-1100
TZOFFSETTO:-1100
TZNAME:SST
DTSTART:19700101T000000
END:STANDARD
END:VTIMEZONE
BEGIN:VEVENT
UID:5385115:Event:136093
DTSTAMP:20260424T005751Z
SUMMARY:Table ronde: la collaboration au service de la diffusion scien
 tifique en libre accÃ¨s
DESCRIPTION:La diffusion en libre accÃ¨s des publications scientifique
 s est un mouvement rÃ©cent, mais qui engage de plus en plus dâ€™acteur
 s de la recherche, quâ€™ils soient chercheurs, bibliothÃ©caires, direc
 teurs de revues ou Ã©tudiants, en passant par les bureaux de la recher
 che universitaire, les organismes subventionnaires et les sociÃ©tÃ©s s
 avantes.  De nombreuses initiatives sont Ã©galement mises en place, ta
 nt au niveau local quâ€™international, pour encadrer et favoriser ce m
 ouvement. Cependant, dâ€™importantes barriÃ¨res existent toujours qui 
 viennent freiner le dÃ©veloppement du libre accÃ¨s. Et si nous pouvion
 s maximiser les retombÃ©es de ces engagements et initiatives pour le l
 ibre accÃ¨s en favorisant la collaboration entre les acteurs de la rec
 herche, tant au sein de leur universitÃ© quâ€™en dehors?  Afin dâ€™exa
 miner les enjeux, possibilitÃ©s et limites dâ€™une telle collaboration
 , une table ronde rÃ©unira plusieurs acteurs du monde de la recherche 
 et des revues scientifiques qui discuteront de leurs actions en faveur
  du libre accÃ¨s.\nAnimateur : BenoÃ®t MelanÃ§on, professeur titulaire
  et directeur, DÃ©partement des littÃ©ratures de langue franÃ§aise de 
 lâ€™UniversitÃ© de MontrÃ©al, directeur scientifique des Presses de lâ
 €™UdeM.\nIntervenants : Peter Dietsch, professeur agrÃ©gÃ©, DÃ©parteme
 nt de philosophie de l'UniversitÃ© de MontrÃ©al, membre du comitÃ© de 
 rÃ©daction de la revue Ateliers de l'Ã©thique.  Vincent Gautrais, prof
 esseur titulaire, FacultÃ© de droit de l'UdeM, titulaire de la Chaire 
 L.R. Wilson sur le droit des technologies de l'informationÂ  et du com
 merce Ã©lectronique, directeur de la revue Lex Electronica.  Servanne 
 Monjour, doctorante, DÃ©partement de littÃ©rature comparÃ©e de l'UdeM 
 et Rennes II, coordonnatrice de la revue Sens public.  Tanja Niemann, 
 directrice gÃ©nÃ©rale, consortium Ã‰rudit.  Diane SauvÃ©, directrice, 
 Direction du soutien Ã  la rÃ©ussite, Ã  la recherche et Ã  l'enseigne
 ment, BibliothÃ¨ques de l'UniversitÃ© de MontrÃ©al.  Bryn Williams-Jon
 es, directeur des programmes de bioÃ©thique et professeur agrÃ©gÃ© Ã  
 l'Ã‰cole de santÃ© publique de l'UniversitÃ© de MontrÃ©al, directeur d
 e la revue BioÃ©thique Online.\n\nFor more information visit http://le
 gacy.openaccessweek.org/events/table-ronde-la-collaboration-au-service
 -de-la-diffusion
DTSTART;TZID=Pacific/Midway:20151020T143000
DTEND;TZID=Pacific/Midway:20151020T163000
CATEGORIES:table, ronde
LOCATION:Canada
WEBSITE:http://www.calendrier.umontreal.ca/?com=detail&eID=634325
URL:http://www.calendrier.umontreal.ca/?com=detail&eID=634325
CONTACT:
ORGANIZER:Consortium Ã‰rudit
ATTACH;FMTTYPE="image/jpeg":http://storage.ning.com/topology/rest/1.0/
 file/get/3057565947?profile=original
ATTENDEE;ROLE=REQ-PARTICIPANT;PARTSTAT=ACCEPTED;RSVP=TRUE;CN="Gwendal 
 Henry":http://legacy.openaccessweek.org/profile/GwendalHenry
END:VEVENT
END:VCALENDAR
