BEGIN:VCALENDAR
PRODID:NingEventWidget-v1
VERSION:2.0
METHOD:PUBLISH
BEGIN:VTIMEZONE
TZID:Pacific/Midway
X-LIC-LOCATION:Pacific/Midway
BEGIN:STANDARD
TZOFFSETFROM:-1100
TZOFFSETTO:-1100
TZNAME:SST
DTSTART:19700101T000000
END:STANDARD
END:VTIMEZONE
BEGIN:VEVENT
UID:5385115:Event:101510
DTSTAMP:20260423T070818Z
SUMMARY:Students & Open Access: ESF Students Talk About Why OA is Impo
 rtant to Them
DESCRIPTION:ESF students demonstrate the Directory of Open Access Jour
 nals and describe their experiences editing Wikipedia entries.\n\nFor 
 more information visit http://legacy.openaccessweek.org/events/student
 s-open-access-esf-students-talk-about-why-oa-is-important
DTSTART;TZID=Pacific/Midway:20131021T123000
DTEND;TZID=Pacific/Midway:20131021T133000
CATEGORIES:presentation
LOCATION:110 Moon Library
WEBSITE:
URL:
CONTACT:
ORGANIZER:Ruth Owens & Jessica Clemons
ATTACH;FMTTYPE="image/jpeg":
ATTENDEE;ROLE=REQ-PARTICIPANT;PARTSTAT=ACCEPTED;RSVP=TRUE;CN="Ruth Owe
 ns":http://legacy.openaccessweek.org/profile/RuthOwens
END:VEVENT
END:VCALENDAR
