BEGIN:VCALENDAR
PRODID:NingEventWidget-v1
VERSION:2.0
METHOD:PUBLISH
BEGIN:VTIMEZONE
TZID:Pacific/Midway
X-LIC-LOCATION:Pacific/Midway
BEGIN:STANDARD
TZOFFSETFROM:-1100
TZOFFSETTO:-1100
TZNAME:SST
DTSTART:19700101T000000
END:STANDARD
END:VTIMEZONE
BEGIN:VEVENT
UID:5385115:Event:165157
DTSTAMP:20260423T114133Z
SUMMARY:Spin the Wheel Game
DESCRIPTION:A \"Questions and Answers\" game where all participants ne
 ed to spin the color wheel and get a prize when answering correctly qu
 estions about our institutional repository and Open Access.\n\n\nFor m
 ore information visit http://legacy.openaccessweek.org/events/spin-the
 -wheel-game
DTSTART;TZID=Pacific/Midway:20171027T180000
DTEND;TZID=Pacific/Midway:20171027T190000
CATEGORIES:game
LOCATION:Kazakhstan
WEBSITE:https://goo.gl/maps/3nd5NGjuuVD2
URL:https://goo.gl/maps/3nd5NGjuuVD2
CONTACT:
ORGANIZER:Saule Sadykova, Tolkyn Jangulova
ATTACH;FMTTYPE="image/jpeg":
ATTENDEE;ROLE=REQ-PARTICIPANT;PARTSTAT=ACCEPTED;RSVP=TRUE;CN="Paschali
 a Terzi":http://legacy.openaccessweek.org/profile/PaschaliaTerzi
END:VEVENT
END:VCALENDAR
