BEGIN:VCALENDAR
PRODID:NingEventWidget-v1
VERSION:2.0
METHOD:PUBLISH
BEGIN:VTIMEZONE
TZID:Pacific/Midway
X-LIC-LOCATION:Pacific/Midway
BEGIN:STANDARD
TZOFFSETFROM:-1100
TZOFFSETTO:-1100
TZNAME:SST
DTSTART:19700101T000000
END:STANDARD
END:VTIMEZONE
BEGIN:VEVENT
UID:5385115:Event:292059
DTSTAMP:20260423T072413Z
SUMMARY:Software Heritage, pour préserver et partager le code source 
 des logiciels Conférence-débat de Roberto Di Cosmo* jeudi 21 octobre
  2021 de 14h à 15h
DESCRIPTION:Le logiciel est un pilier de la recherche moderne, le code
  source des logiciels intégrant de nombreuses connaissances scientifi
 ques et technologiques.  Après les publications et les données, il e
 st donc essentiel de préserver, partager et référencer les logiciel
 s de recherche pour permettre la reproductibilité de la science et pa
 rfaire l’Open Access.\nCette problématique complexe peut trouver au
 jourd’hui des réponses simples et faciles à mettre en œuvre.  é
 vénement passé le 21 octobre  mais enregistrement disponible\n\nFor
  more information visit http://legacy.openaccessweek.org/events/softwa
 re-heritage-pour-pr-server-et-partager-le-code-source-des
DTSTART;TZID=Pacific/Midway:20211021T140000
DTEND;TZID=Pacific/Midway:20211021T150000
CATEGORIES:workshop
LOCATION:France
WEBSITE:
URL:
CONTACT:
ORGANIZER:Service IST de l'IRD
ATTACH;FMTTYPE="image/jpeg":https://storage.ning.com/topology/rest/1.0
 /file/get/9722770870?profile=original
ATTENDEE;ROLE=REQ-PARTICIPANT;PARTSTAT=ACCEPTED;RSVP=TRUE;CN="Pascal M
 ichel":http://legacy.openaccessweek.org/profile/PascalMichel
END:VEVENT
END:VCALENDAR
