BEGIN:VCALENDAR
PRODID:NingEventWidget-v1
VERSION:2.0
METHOD:PUBLISH
BEGIN:VTIMEZONE
TZID:Pacific/Midway
X-LIC-LOCATION:Pacific/Midway
BEGIN:STANDARD
TZOFFSETFROM:-1100
TZOFFSETTO:-1100
TZNAME:SST
DTSTART:19700101T000000
END:STANDARD
END:VTIMEZONE
BEGIN:VEVENT
UID:5385115:Event:176136
DTSTAMP:20260421T205431Z
SUMMARY:#siguelapistadelOA
DESCRIPTION:Dentro de las actividades de laÂ Semana Internacional de A
 cceso AbiertoÂ (22-28oct), Crue-REBIUN pone en marcha el juego en lÃ­n
 ea #siguelapistadelOA, coordinado por las Bibliotecas de la Universida
 d de LeÃ³n y de la Universidade de Santiago de Compostela (enmarcado d
 entro de los objetivos del Plan EstratÃ©gico REBIUN 2020).Â Entre los 
 dÃ­as 23 y 26, a travÃ©s de las redes sociales deÂ TwitterÂ (@rebiun) 
 yÂ FacebookÂ (https://www.facebook.com/REBIUN/), plantearemos pregunta
 s, daremos pistas y animaremos, de una forma lÃºdica, al uso, conocimi
 ento y difusiÃ³n de los recursos en abierto de las universidades espaÃ
 ±olas.Â Â Una vezÂ Â terminada la actividad, las personas participante
 sÂ Â podrÃ¡n enviarnos la resoluciÃ³n completa del juego al correo ele
 ctrÃ³nicoÂ minerva@usc.es,Â indicando nombre, direcciÃ³nÂ Â postal (pa
 ra recibir un pequeÃ±o obsequio) y universidad.\nOs pedimos que difund
 Ã¡is esta actividad y animÃ©is al alumnado, PDI y PAS a participar.\n\
 nFor more information visit http://legacy.openaccessweek.org/events/si
 guelapistadeloa
DTSTART;TZID=Pacific/Midway:20181023T000000
DTEND;TZID=Pacific/Midway:20181026T235900
CATEGORIES:game
LOCATION:Spain
WEBSITE:
URL:
CONTACT:
ORGANIZER:Crue-REBIUN
ATTACH;FMTTYPE="image/jpeg":http://storage.ning.com/topology/rest/1.0/
 file/get/3057621791?profile=original
ATTENDEE;ROLE=REQ-PARTICIPANT;PARTSTAT=ACCEPTED;RSVP=TRUE;CN="Esther F
 ernÃ¡ndez Ramos":http://legacy.openaccessweek.org/profile/EstherFernan
 dezRamos
ATTENDEE;ROLE=REQ-PARTICIPANT;PARTSTAT=ACCEPTED;RSVP=TRUE;CN="Cristal 
 MartÃ­nez Pousa":http://legacy.openaccessweek.org/profile/CristalMarti
 nezPousa
END:VEVENT
END:VCALENDAR
