BEGIN:VCALENDAR
PRODID:NingEventWidget-v1
VERSION:2.0
METHOD:PUBLISH
BEGIN:VTIMEZONE
TZID:Pacific/Midway
X-LIC-LOCATION:Pacific/Midway
BEGIN:STANDARD
TZOFFSETFROM:-1100
TZOFFSETTO:-1100
TZNAME:SST
DTSTART:19700101T000000
END:STANDARD
END:VTIMEZONE
BEGIN:VEVENT
UID:5385115:Event:136620
DTSTAMP:20260425T085011Z
SUMMARY:Sharing and Preserving Research Outp
DESCRIPTION:Join KAUST faculty as they discuss their approaches to sha
 ring and storing research. Learn more about the benefits of preserving
  your research to both advance scientific knowledge and to accommodate
  possible new and unanticipated uses of your data.\nPanelists\nMichael
  Berumen, Associate Professor of Marine Science\nDavid Ketcheson, Asso
 ciate Professor of Applied Mathematics\nChristian Voolstra, Associate 
 Professor of Marine Science\nModerated by Molly Tamarkin, Library Dire
 ctor \nMonday 12 October, 11am – 12pm\nAuditorium 0215, Between Bui
 ldings 4 & 5\n\nFor more information visit http://legacy.openaccesswee
 k.org/events/sharing-and-preserving-research-outp
DTSTART;TZID=Pacific/Midway:20151013T180000
DTEND;TZID=Pacific/Midway:20151013T190000
CATEGORIES:discussion, panel
LOCATION:Saudi Arabia
WEBSITE:http://libguides.kaust.edu.sa/OA2015
URL:http://libguides.kaust.edu.sa/OA2015
CONTACT:
ORGANIZER;CN="Mohamed Baessa":http://legacy.openaccessweek.org/profile
 /MohamedBaessa
ATTACH;FMTTYPE="image/jpeg":http://storage.ning.com/topology/rest/1.0/
 file/get/3057566649?profile=original
ATTENDEE;ROLE=REQ-PARTICIPANT;PARTSTAT=ACCEPTED;RSVP=TRUE;CN="Mohamed 
 Baessa":http://legacy.openaccessweek.org/profile/MohamedBaessa
END:VEVENT
END:VCALENDAR
