BEGIN:VCALENDAR
PRODID:NingEventWidget-v1
VERSION:2.0
METHOD:PUBLISH
BEGIN:VTIMEZONE
TZID:Pacific/Midway
X-LIC-LOCATION:Pacific/Midway
BEGIN:STANDARD
TZOFFSETFROM:-1100
TZOFFSETTO:-1100
TZNAME:SST
DTSTART:19700101T000000
END:STANDARD
END:VTIMEZONE
BEGIN:VEVENT
UID:5385115:Event:69484
DTSTAMP:20260421T010748Z
SUMMARY:Set the Default to Open Access: Open Access to Scholarly Infor
 mation as a Means to Strengthening Education, Research and Development
DESCRIPTION:The Addis Ababa University Libraries in-collaboration with
  the School of Information Science is organizing various events during
  the Open Access Week in October, 2012. Although this event will be co
 nducted at the Addis Ababa University, other universities in the Count
 ry will have the chance to participate via video conference. There are
  presentations, showcases, and discussion of policy issues for open ac
 cess. This event is supported by the International Network for the Ava
 ilability of Scientific Publications (INASP).\n\nFor more information 
 visit http://legacy.openaccessweek.org/events/set-the-default-to-open-
 access-open-access-to-scholarly
DTSTART;TZID=Pacific/Midway:20121022T180000
DTEND;TZID=Pacific/Midway:20121026T190000
CATEGORIES:awareness, creation, and, policy, formulation
LOCATION:Addis Ababa, Ethiopia
WEBSITE:http://www.aau.edu.et
URL:http://www.aau.edu.et
CONTACT:
ORGANIZER:
ATTACH;FMTTYPE="image/jpeg":
ATTENDEE;ROLE=REQ-PARTICIPANT;PARTSTAT=ACCEPTED;RSVP=TRUE;CN="Teklemic
 hael T. Wordofa":http://legacy.openaccessweek.org/profile/Teklemichael
 TWordofa
END:VEVENT
END:VCALENDAR
