BEGIN:VCALENDAR
PRODID:NingEventWidget-v1
VERSION:2.0
METHOD:PUBLISH
BEGIN:VTIMEZONE
TZID:Pacific/Midway
X-LIC-LOCATION:Pacific/Midway
BEGIN:STANDARD
TZOFFSETFROM:-1100
TZOFFSETTO:-1100
TZNAME:SST
DTSTART:19700101T000000
END:STANDARD
END:VTIMEZONE
BEGIN:VEVENT
UID:5385115:Event:52823
DTSTAMP:20260423T091117Z
SUMMARY:Seminario sobre Acceso Abierto en FLACSO Argentina
DESCRIPTION:La Semana del Acceso Abierto 2011 se celebrará del 24-30 
 de octubre con objeto de incrementar el nivel de conocimiento, celebra
 r los progresos realizados en el desarrollo del acceso abierto hasta l
 a fecha e inspirar a la comunidad para encontrar nuevas vías para pro
 mocionarlo.\n\n\nFLACSO Argentina viene trabajandoen pos de la libre c
 irculación del conocimiento científico y académico y es en ese cont
 exto en el que participaremos de la Semana del Acceso Abierto este añ
 o. Entendemos que se trata de discusiones trascendentes y actuales par
 a quienes formamos parte de instituciones donde se produce conocimient
 o y es por eso que queremos invitarlos muy cordialmente a participar d
 e las actividades de la Semana del Acceso Abierto organizadas por FLAC
 SO Argentina.\n\n\nPrograma de actividades del martes 25 de octubre:\n
 \n10:00 - Intercambio sobre Educación Superior y Acceso Abierto\n\n 
 - Presentación a cargo de FLACSO Virtual\n - Fernando López - CLACS
 O\n - María Cecilia Corda - FLACSO\n - María Rosa Mostaccio - Facu
 ltad de Filosofía y Letras - UBA\n\n12:00 - Coffee Break\n\n12:30 - I
 ntercambio sobre Políticas Públicas de Acceso Abierto\n\n - Paola B
 ongiovani - MINCYT\n\n14:30 - Fin del evento\n\n\nMás información:\n
 http://libre.flacso.org.ar/aa2011\n\n\nFor more information visit http
 ://legacy.openaccessweek.org/events/seminario-sobre-acceso-abierto-en-
 flacso-argentina
DTSTART;TZID=Pacific/Midway:20111025T000000
DTEND;TZID=Pacific/Midway:20111025T235900
CATEGORIES:open, seminar
LOCATION:FLACSO Argentina
WEBSITE:http://libre.flacso.org.ar/
URL:http://libre.flacso.org.ar/
CONTACT:(54-11) 5238-9300
ORGANIZER:FLACSO Argentina
ATTACH;FMTTYPE="image/jpeg":
ATTENDEE;ROLE=REQ-PARTICIPANT;PARTSTAT=ACCEPTED;RSVP=TRUE;CN="María J
 osé Figuerero":http://legacy.openaccessweek.org/profile/MariaJoseFigu
 erero
END:VEVENT
END:VCALENDAR
