BEGIN:VCALENDAR
PRODID:NingEventWidget-v1
VERSION:2.0
METHOD:PUBLISH
BEGIN:VTIMEZONE
TZID:Pacific/Midway
X-LIC-LOCATION:Pacific/Midway
BEGIN:STANDARD
TZOFFSETFROM:-1100
TZOFFSETTO:-1100
TZNAME:SST
DTSTART:19700101T000000
END:STANDARD
END:VTIMEZONE
BEGIN:VEVENT
UID:5385115:Event:176666
DTSTAMP:20260421T045934Z
SUMMARY:Semana Internacional del Acceso Abierto 2018 en EspaÃ±a
DESCRIPTION:Dentro de las actividades de la Semana Internacional de Ac
 ceso Abierto (22-28oct.), Crue-REBIUN estrena nuevo espacio dentro de 
 la web en el enlace:\nhttp://www.rebiun.org/acceso-abierto/general\nEn
  esta nueva pÃ¡gina se difundirÃ¡n las actividades celebradas en EspaÃ
 ±a para conmemorar esta Semana.\n\nFor more information visit http://l
 egacy.openaccessweek.org/events/semana-internacional-del-acceso-abiert
 o-2018-en-espa-a
DTSTART;TZID=Pacific/Midway:20181024T000000
DTEND;TZID=Pacific/Midway:20181028T235900
CATEGORIES:web, page
LOCATION:Spain
WEBSITE:http://www.rebiun.org/acceso-abierto/general
URL:http://www.rebiun.org/acceso-abierto/general
CONTACT:
ORGANIZER:Crue-REBIUN
ATTACH;FMTTYPE="image/jpeg":http://storage.ning.com/topology/rest/1.0/
 file/get/3057619671?profile=original
ATTENDEE;ROLE=REQ-PARTICIPANT;PARTSTAT=ACCEPTED;RSVP=TRUE;CN="Cristal 
 MartÃ­nez Pousa":http://legacy.openaccessweek.org/profile/CristalMarti
 nezPousa
END:VEVENT
END:VCALENDAR
