BEGIN:VCALENDAR
PRODID:NingEventWidget-v1
VERSION:2.0
METHOD:PUBLISH
BEGIN:VTIMEZONE
TZID:Pacific/Midway
X-LIC-LOCATION:Pacific/Midway
BEGIN:STANDARD
TZOFFSETFROM:-1100
TZOFFSETTO:-1100
TZNAME:SST
DTSTART:19700101T000000
END:STANDARD
END:VTIMEZONE
BEGIN:VEVENT
UID:5385115:Event:75187
DTSTAMP:20260423T201545Z
SUMMARY:Semana de Acceso Abierto 2012
DESCRIPTION:lunes 22 de oct Capacitación en el uso del repositorio In
 stitucional Kérwá y licencias Creative Commons 9-12 am, Sala Girasol
 , Vicerrectoría de Investigación. Facilita: Katalina Alfaro y Meilyn
  Garro Charla: ¿Qué es Software Libre? Auditorio de Ciencias Sociale
 s, 13:00 a 14:00 Facilita: Leonardo Jiménez  Charla: Software libre p
 ara bibliotecas. Auditorio de Ciencias Sociales, 14:00 a 16:00 Facilit
 a: Rolando Herrera  martes 23 de oct Programa “Desayunos” en Radio
  Universidad 96.7 FM: Saray Córdoba Acceso Abierto en la Universidad 
 de Costa Rica 7:00 a 8:00  miércoles 24 de oct Taller: Internet, plag
 io y acceso abierto. 8:30 a 12, Laboratorio del NIDES, Medicina Facili
 ta: Saray Córdoba, Meilyn Garro, Ricardo Chinchilla y Jorge Polanco  
 Temas:  Internet: Inclusión de revistas en redes académicas para obt
 ener el índice H. Plagio: Software. Facilitado por Ricardo Chinchilla
  Creative Commons Google Citation para revistas.  Taller: Resúmenes p
 ara publicaciones científicas y acceso abierto 13:00 a 17:00, Laborat
 orio del NIDES, Medicina Facilita: Saray Córdoba  Dinámica: revisió
 n de resúmenes de revistas para encontrar errores y aciertos. Revisi
 n de norma ISO. Práctica para hacer resúmenes.  jueves 25 de oct En
 trevista al Señor Rector, Dr. Henning Jensen en el programa En la Aca
 demia. Entrevista: Saray Córdoba de las 17:00 a 18:00  miércoles 31 
 de octubre Taller: Internet, plagio y acceso abierto. 8:30 a 12, Labor
 atorio del NIDES, Medicina Facilita: Saray Córdoba, Meilyn Garro, Ric
 ardo Chinchilla y Jorge Polanco  Temas:  Internet: Inclusión de revis
 tas en redes académicas para obtener el índice H. Plagio: Software. 
 Facilitado por Ricardo Chinchilla Creative Commons Google Citation par
 a revistas.  Taller: Resúmenes para publicaciones científicas y acce
 so abierto 13:00 a 17:00, Laboratorio del NIDES, Medicina Facilita: Sa
 ray Córdoba  Dinámica: revisión de resúmenes de revistas para enco
 ntrar errores y aciertos. Revisión de norma ISO. Práctica para hacer
  resúmenes.\n\n\nFor more information visit http://legacy.openaccessw
 eek.org/events/semana-de-acceso-abierto-2012
DTSTART;TZID=Pacific/Midway:20121022T000000
DTEND;TZID=Pacific/Midway:20121025T235900
CATEGORIES:talleres, y, charlas
LOCATION:Universidad de Costa Rica, San Pedro, San José, Costa Rica
WEBSITE:http://latindex.ucr.ac.cr; revistas.ucr.ac.cr; facebook.com/La
 tindexUCR
URL:http://latindex.ucr.ac.cr; revistas.ucr.ac.cr; facebook.com/Latind
 exUCR
CONTACT:(506)2511-4412
ORGANIZER:UCRIndex
ATTACH;FMTTYPE="image/jpeg":
ATTENDEE;ROLE=REQ-PARTICIPANT;PARTSTAT=ACCEPTED;RSVP=TRUE;CN="Jorge Po
 lanco Cortés":http://legacy.openaccessweek.org/profile/JorgePolancoCo
 rtes
END:VEVENT
END:VCALENDAR
