BEGIN:VCALENDAR
PRODID:NingEventWidget-v1
VERSION:2.0
METHOD:PUBLISH
BEGIN:VTIMEZONE
TZID:Pacific/Midway
X-LIC-LOCATION:Pacific/Midway
BEGIN:STANDARD
TZOFFSETFROM:-1100
TZOFFSETTO:-1100
TZNAME:SST
DTSTART:19700101T000000
END:STANDARD
END:VTIMEZONE
BEGIN:VEVENT
UID:5385115:Event:175232
DTSTAMP:20260422T184137Z
SUMMARY:Screening of Paywall: The Business of Scholarship &amp; Facili
 tated Discussion
DESCRIPTION:Join us for popcorn as we screen Paywall, followed by a 
 facilitated discussion with Scholarly Communications Librarian, Melis
 sa Rothfus.   Paywall: The Business of Scholarship is a documentary 
 which focuses on the need for open access to research and science, que
 stions the rationale behind the $25.2 billion a year that flows into f
 or-profit academic publishers, examines the 35–40% profit margin ass
 ociated with the top academic publisher Elsevier and looks at how that
  profit margin is often greater than some of the most profitable tech 
 companies like Apple, Facebook and Google.   (from https://paywallt
 hemovie.com/)\nThis film screening is co-presented by the Dalhousie Li
 braries and the School of Information Management as part of the IM Pub
 lic Lecture series. For more information, visit tinyurl.com/IMPublicL
 ectures Thursday, October 25/12–1:30 p.m. Room 5053, Rowe Building 6
 100 University Avenue\n\nFor more information visit http://legacy.open
 accessweek.org/events/screening-of-paywall-the-business-of-scholarship
 -amp-facilitated
DTSTART;TZID=Pacific/Midway:20181025T120000
DTEND;TZID=Pacific/Midway:20181025T133000
CATEGORIES:film, and, discussion
LOCATION:Canada
WEBSITE:
URL:
CONTACT:
ORGANIZER:Dalhousie University Libraries
ATTACH;FMTTYPE="image/jpeg":http://storage.ning.com/topology/rest/1.0/
 file/get/3057618412?profile=original
ATTENDEE;ROLE=REQ-PARTICIPANT;PARTSTAT=ACCEPTED;RSVP=TRUE;CN="Marlo Ma
 cKay":http://legacy.openaccessweek.org/profile/MarloMacKay
END:VEVENT
END:VCALENDAR
